BEGIN:VCALENDAR
VERSION:2.0
PRODID:-//tapahtumainfo.fi//NONSGML Kyröfest 2026//EN
METHOD:REQUEST
BEGIN:VEVENT
UID:20260421T225526-849595529-tapahtumainfo.fi
DTSTAMP:20260421T225526
DTSTART:20260821T020000Z
DTEND:20260821T020000Z
LOCATION:Kyrö Distillery Companyn piha-alue
SUMMARY:Kyröfest 2026
DESCRIPTION:<html><head></head><body><h3>Tänä vuonna Kyröfest täyttää 10 vuotta, jonka kunniaksi laajennamme tapahtuman kaksipäiväiseksi. Vuosi toisensa jälkeen loppuunmyyty Kyröfest järjestetään elokuussa 21.-22.8.2026.</h3><br /><p>Suomen ainutlaatuisin tislaamofestivaali yhdistää musiikin, taiteen sekä paikallisen ruoka- ja juomakulttuurin Kyrö Distilleryn pihamaalla Isossakyrössä. Merkkivuoden kunniaksi palaamme rakkaisiin muistoihin, ja samalla uudistamme sekä laajennamme festivaalialuetta.</p><br /><p><strong>Kyröfestin lavalle nousevat:</strong></p><br /><p><strong>Perjantai:</strong><br>Karri Koira<br>Aaro630<br>Lyyti<br>Yona<br>Figaro<br>Stepa<strong><br><br>Lauantai:</strong><br>Vesta<br>Windows95Man<br>Eevil Stöö - Iso vauva Jeesus 10v<br>Rättö ja Lehtisalo<br>Lala Salama<br>Bobomobile<br>Malla<br>Ullalintulampi<br>MC KOO<br>Hopeasiivet</p><br /><p>Festarit vai "hiukka suuruurenhullut" pihajuhlat? Ei me tiedetä, mutta se me tiedetään, että tunnelmaa on ja elämyksiä riittää.</p><br /><p>Lisätietoja tapahtumasta: <a href="https://l.facebook.com/l.php?u=http%3A%2F%2Fwww.kyrofest.fi%2F%3Ffbclid%3DIwZXh0bgNhZW0CMTAAYnJpZBEwaXR4QmYwOTljZjBBSjViR3NydGMGYXBwX2lkEDIyMjAzOTE3ODgyMDA4OTIAAR4vFISePgBqei7xIHDtSaxqmeQPy2uuNf3crwh425ziUuJYqHsMJUGYwPIc2g_aem_ydEEYSZuoio0B0fu-IUbZg&h=AT0ZsnVOmq_T76H6Aztc5Kc0_kWTicwS1wWSxFCy6hn8nlEGLZiRA5Mrxt_BmhjDgGaYd-Nw2aa2Nmt1XvB8BgzrGccfsG-PZ3HFBCxftHV2uU3GRPiF3SASl03MGv7FSvpxpDH1v6oCzA&__tn__=q&c%5b0%5d=AT3tNZon0gHIGg_eMNXoQNTvGb6rLhOlopMFOGDDdXDSASuw_iN8mkRrx_eQjX5vpdiDOb5JQXOJg_1vWSNwVxP_GDEJhDmNV0ZK3OrgINfl4BjpIDE3FKLDRU-26lEGOiPQVNi551QQfNvJrUDKzkwgP3Ot-XJ0ZMw" target="_blank"><strong>www.kyrofest.fi</strong></a></p><br /><p>Laitathan myös seurantaan Kyröfestin oman IG-tilin @kyrofest</p><br /><br /><p>Kaikki lipputyypit vaihdetaan rannekeisiin portilla.</p><br /><p><strong>Esteettömyys:<br></strong>Avustaja pääsee tapahtumaan ilmaiseksi avustettavan kanssa samalla lipulla: <strong>kyllä<br></strong>Tapahtumaan on esteetön pääsy pyörätuolilla: <strong>kyllä<br></strong>Tapahtumapaikalla on esteetön WC: <strong>kyllä</strong><br>Tapahtumassa on pyörätuolikoroke: <strong>ei</strong><br>Pyörätuolia<br /> käyttävä tai erityistä avustusta tarvitseva asiakas voi olla etukäteen <br />yhteydessä järjestäjään: kyrofest@kyrodistillery.com</p><br /><p>Seuraa uutta tiliämme instagramissa: <a id="plusReplyChip-0">@kyrofest</a></p> <br /><br />  Visit event in our website: <a href='https://tapahtumainfo.fi/tapahtuma/2026/08/kyrofest-2026/403095'>Tapahtumainfo.fi</a></body></html>
END:VEVENT
END:VCALENDAR
