BEGIN:VCALENDAR
VERSION:2.0
PRODID:-//tapahtumainfo.fi//NONSGML &quot;Rovaniemi, ei kylÃ¤ - eikÃ¤ kaupunki&quot;//EN
METHOD:REQUEST
BEGIN:VEVENT
UID:20260425T202931-1269392266-tapahtumainfo.fi
DTSTAMP:20260425T202931
DTSTART:20230518T020000Z
DTEND:20301231T020000Z
LOCATION:Rovaniemen kotiseutumuseo
SUMMARY:&quot;Rovaniemi, ei kylÃ¤ - eikÃ¤ kaupunki&quot;
DESCRIPTION:<html><head></head><body>Rovaniemen paikallishistoriasta kertova valokuvanÃ¤yttely &quot;Rovaniemi - ei kylÃ¤ eikÃ¤ kaupunki&quot; on saanut otsikkonsa Ilmari Kiannon kirjoituksesta. Valokuvat ovat pÃ¤Ã¤osin 1910- ja 1920-luvuilta.<br> <br>Historialliset valokuvat ovat materialisoituneita menneisyyden palasia, jotka kertovat omasta ajastaan, kun ne asettaa paikalleen osaksi historiallista prosessia. PÃ¤Ã¤osin nÃ¤yttelyn valokuvat on ottanut Iikka Paavalniemi (1875&ndash;1950), joka toimi sairaalan talonmiehenÃ¤, erÃ¤Ã¤nlaisena kÃ¤ytÃ¤nnÃ¶n hoidon isÃ¤nnÃ¶itsijÃ¤nÃ¤ ja vahtimestarina. HarrastajakylÃ¤kuvaajana hÃ¤n kuvasi laajasti RovaniemeÃ¤ 1910&ndash;1920-luvuilla. HÃ¤n esiintyi monesti humoristisesti itse valokuvissaan. MyÃ¶hemmin Paavalniemi pÃ¤Ã¤tyi valokuvaajan ammatin harjoittajaksi Nurmekseen.<br> <br>MyÃ¶s toisen merkittÃ¤vÃ¤n rovaniemelÃ¤isen valokuvaajan, Hildur Larssonin (1882&ndash;1952) valokuvia on nÃ¤yttelyssÃ¤. HÃ¤n toimi RovaniemellÃ¤ ammattimaisena valokuvaajana noin 10 vuoden ajan vuodesta 1905 lÃ¤htien kuvaten pÃ¤Ã¤asiassa henkilÃ¶kuvia ateljeessaan sekÃ¤ merkittÃ¤viÃ¤ tapahtumia.<br> <br>ValokuvanÃ¤yttelyn kuviin voi tarkemmin perehtyÃ¤ QR-koodin kautta. <br>NiissÃ¤ esitellÃ¤Ã¤n kuvatekstejÃ¤ laajemmin valokuvien sisÃ¤ltÃ¶jÃ¤ sekÃ¤ yhteyttÃ¤ ajankohtaan. NÃ¤yttelyn ovat koostaneet TaT, tutkija, valokuvaaja Mervi LÃ¶fgren Autti, valokuvaaja Jukka Suvilehto ja historian ja suomen kielen opettaja (emerita) Sirkka Veikkolainen. <br><br> <br /><br />  Visit event in our website: <a href='https://tapahtumainfo.fi/tapahtuma/2023/05/rovaniemi-ei-kyl--eik--kaupunki/403528'>Tapahtumainfo.fi</a></body></html>
END:VEVENT
END:VCALENDAR
