BEGIN:VCALENDAR
VERSION:2.0
PRODID:-//tapahtumainfo.fi//NONSGML 18.5. KansainvÃ¤linen museopÃ¤ivÃ¤//EN
METHOD:REQUEST
BEGIN:VEVENT
UID:20260425T225306-459749441-tapahtumainfo.fi
DTSTAMP:20260425T225306
DTSTART:20220518T020000Z
DTEND:20300518T020000Z
LOCATION:Talvisotamuseo
SUMMARY:18.5. KansainvÃ¤linen museopÃ¤ivÃ¤
DESCRIPTION:<html><head></head><body> <br /><br />  Visit event in our website: <a href='https://tapahtumainfo.fi/tapahtuma/2022/05/18-5-kansainv-linen-museop-iv/403532'>Tapahtumainfo.fi</a></body></html>
END:VEVENT
END:VCALENDAR
