BEGIN:VCALENDAR
VERSION:2.0
PRODID:-//tapahtumainfo.fi//NONSGML Ajaton perinne â Suomalainen kansallispuku / pysyvÃ¤ nÃ¤yttely//EN
METHOD:REQUEST
BEGIN:VEVENT
UID:20260421T185359-1338678097-tapahtumainfo.fi
DTSTAMP:20260421T185359
DTSTART:20250627T020000Z
DTEND:20501231T020000Z
LOCATION:Suomen kÃ¤sityÃ¶n museo
SUMMARY:Ajaton perinne â Suomalainen kansallispuku / pysyvÃ¤ nÃ¤yttely
DESCRIPTION:<html><head></head><body>TÃ¤mÃ¤ kiehtova nÃ¤yttely vie sinut matkalle suomalaisten kansallispukujen ja kansanomaisen kÃ¤sityÃ¶taidon maailmaan.<br><br>Suomalainen kansallispuku on upea juhla-asu, joka sopii kaikkiin juhlatilaisuuksiin ja jatkaa kansanomaista juhlapukuperinnettÃ¤. NÃ¤yttelyssÃ¤ esillÃ¤ olevat puvut ovat uusintoja 1700- ja 1800-lukujen talonpoikaisvÃ¤estÃ¶n juhla-asuista, joissa yhdistyvÃ¤t kÃ¤sityÃ¶taidon eri osa-alueet sekÃ¤ aikakausille tyypilliset muotipiirteet ja materiaalit.<br><br>Kansan juhlapukeutuminen 1700- ja 1800-luvuilla oli runsasta ja nÃ¤yttÃ¤vÃ¤Ã¤. Pukeutumisella voitiin ilmentÃ¤Ã¤ varallisuutta, siviilisÃ¤Ã¤tyÃ¤ ja uskontoa. Kirkossa kÃ¤ynti oli tÃ¤rkeÃ¤ juhlatilanne, jolloin kokoonnuttiin kirkonmÃ¤elle vaihtamaan kuulumisia ja tarkastelemaan toisten pukeutumista.<br><br>Miesten ja naisten pukujen erikoispiirteet sekÃ¤ niiden alkuperÃ¤ tulevat esille nÃ¤yttelyn upeissa esimerkeissÃ¤. Kansallispuvun monimuotoisuus nÃ¤kyy vaihtoehtoisissa osissa ja erilaisissa asusteissa. Kansallispukuun liittyy myÃ¶s useita erikoistekniikoita, kuten rekkokirjonta ja pitsinnyplÃ¤ys. <br><br>NÃ¤yttelyssÃ¤ voit ihailla sekÃ¤ lÃ¤nsisuomalaisia ettÃ¤ karjalaisia kansallispukuja. <br><br>Tervetuloa tutustumaan suomalaisten kansallispukujen rikkaaseen historiaan ja monimuotoisuuteen Ajaton perinne -nÃ¤yttelyssÃ¤! <br /><br />  Visit event in our website: <a href='https://tapahtumainfo.fi/tapahtuma/2025/06/ajaton-perinne--suomalainen-kansallispuku-pysyv--n-yttely/403547'>Tapahtumainfo.fi</a></body></html>
END:VEVENT
END:VCALENDAR
