BEGIN:VCALENDAR
VERSION:2.0
PRODID:-//tapahtumainfo.fi//NONSGML Avoin yleisÃ¶opastus Lastentarhamuseoon ja Ebeneser-taloon//EN
METHOD:REQUEST
BEGIN:VEVENT
UID:20260422T144958-284279492-tapahtumainfo.fi
DTSTAMP:20260422T144958
DTSTART:20260428T020000Z
DTEND:20260428T020000Z
LOCATION:Lastentarhamuseo
SUMMARY:Avoin yleisÃ¶opastus Lastentarhamuseoon ja Ebeneser-taloon
DESCRIPTION:<html><head></head><body>AikuisyleisÃ¶lle suunnatulla opastuksella tutustutaan Ebeneser-taloon â yhteen Suomen ensimmÃ¤isistÃ¤ kansanlastentarhaksi rakennetuista rakennuksista.<br><br>Tutustumme talon rakentamisen taustalla olleisiin henkilÃ¶ihin, heidÃ¤n historiaansa sekÃ¤ talon alkuperÃ¤iseen kÃ¤yttÃ¶tarkoitukseen. Lastentarhamuseon kokoelmien kautta esitellÃ¤Ã¤n lastentarhatyÃ¶n ja -koulutuksen alkuvaiheita Suomessa sekÃ¤ peilataan historiaa nykyhetkeen.<br><br>Opastus alkaa Ebeneser-talon kolmannesta kerroksesta Lastentarhamuseon infoaulasta. Opastuksen kesto on noin 45 minuuttia, jonka jÃ¤lkeen on mahdollista jÃ¤Ã¤dÃ¤ museoon omatoimisesti tutustumaan.<br><br>SisÃ¤ltyy museolipun hintaan (10 â¬ / 6 â¬ / Museokortti). <br /><br />  Visit event in our website: <a href='https://tapahtumainfo.fi/tapahtuma/2026/04/avoin-yleis-opastus-lastentarhamuseoon-ja-ebeneser-taloon/403579'>Tapahtumainfo.fi</a></body></html>
END:VEVENT
END:VCALENDAR
