BEGIN:VCALENDAR
VERSION:2.0
PRODID:-//tapahtumainfo.fi//NONSGML Avoin yleisÃ¶opastus pÃ¤Ã¤nÃ¤yttelyyn//EN
METHOD:REQUEST
BEGIN:VEVENT
UID:20260422T144509-1943001162-tapahtumainfo.fi
DTSTAMP:20260422T144509
DTSTART:20260502T020000Z
DTEND:20260502T020000Z
LOCATION:Urheilun ja liikunnan kulttuurikeskus TAHTO
SUMMARY:Avoin yleisÃ¶opastus pÃ¤Ã¤nÃ¤yttelyyn
DESCRIPTION:<html><head></head><body>Kierroksella kÃ¤ydÃ¤Ã¤n lÃ¤pi urheiluun liittyviÃ¤ suuria tunteita ja tutustutaan mm. Helsingin olympialaisiin ja urheilusankaruuteen. Kierroksella kuulet ainutlaatuisia tarinoita suomalaisen urheiluhistorian varrelta ja katsotaan mitÃ¤ nykyaika on tuonut urheilu- ja liikuntakulttuuriimme. Millaiset olivat Matti NykÃ¤sen ensimmÃ¤iset omat mÃ¤kisukset ja mikÃ¤ tekee Jari Litmasesta niin merkittÃ¤vÃ¤n osan suomalaista urheiluhistoriaa? Opastuksella selviÃ¤Ã¤ myÃ¶s miksi Helsingin olympiakisojen soihtu on maailman harvinaisin kÃ¤ytÃ¶ssÃ¤ ollut soihtu ja kuka sytytti sen olympiatulen vuonna 1952 Olympiastadionin tornin tulimaljaan.<br><br>La 18.4.26 klo 14 avoin yleisÃ¶opastus pÃ¤Ã¤nÃ¤yttelyyn <br>LA 2.5. klo 14 avoin yleisÃ¶opastus pÃ¤Ã¤nÃ¤yttelyyn<br><br>Muita avoimia teemaopastuksia lÃ¶ydÃ¤t verkkosivuiltamme www.tahto.com.<br><br>MEILTÃ MYÃS AINUTLAATUISIA TILAUSOPASTUKSIA PIENEMMILLE JA ISOMMILLE RYHMILLE.<br><br>Kysy lisÃ¤Ã¤ tahto@tahto.com <br /><br />  Visit event in our website: <a href='https://tapahtumainfo.fi/tapahtuma/2026/05/avoin-yleis-opastus-p--n-yttelyyn/403580'>Tapahtumainfo.fi</a></body></html>
END:VEVENT
END:VCALENDAR
