BEGIN:VCALENDAR
VERSION:2.0
PRODID:-//tapahtumainfo.fi//NONSGML ElÃ¤mÃ¤n historia//EN
METHOD:REQUEST
BEGIN:VEVENT
UID:20260421T223415-156568933-tapahtumainfo.fi
DTSTAMP:20260421T223415
DTSTART:20220530T020000Z
DTEND:20301231T020000Z
LOCATION:LUOMUS Luonnontieteellinen museo
SUMMARY:ElÃ¤mÃ¤n historia
DESCRIPTION:<html><head></head><body>ElÃ¤mÃ¤n historiasta kertova nÃ¤yttely johdattaa kÃ¤vijÃ¤n elÃ¤mÃ¤n alkuhÃ¤mÃ¤ristÃ¤ aina viimeisimmÃ¤n jÃ¤Ã¤kauden loppuvaiheisiin asti. Ihmettele miljardien vuosien aikana maapallolla tapahtuneita muutoksia ja nÃ¤e aikamatkallasi elÃ¤mÃ¤n kehitys pienistÃ¤ trilobiiteista aina suurimpaan tunnettuun petodinosaurukseen ja hurjaan sapelihammaskissaan asti.<br><br>Maapallon pinnan kivikehÃ¤n mantereiset ja mereiset laatat liikkuvat kuin liukuhihnalla. Ne siirtyvÃ¤t, tÃ¶rmÃ¤Ã¤vÃ¤t ja repeytyvÃ¤t muovaten mannerten pintaa. Mannerten sijainti ja koko vaikuttavat planeettamme ilmastoon. Kun olosuhteet olivat muinoin otolliset, ensimmÃ¤iset eliÃ¶t kehittyivÃ¤t meriin ja alkoivat tuottaa nykyelÃ¤mÃ¤lle vÃ¤lttÃ¤mÃ¤tÃ¶ntÃ¤ happea. Mutta tÃ¤mÃ¤ oli vasta alkuaâ¦ <br /><br />  Visit event in our website: <a href='https://tapahtumainfo.fi/tapahtuma/2022/05/el-m-n-historia/403598'>Tapahtumainfo.fi</a></body></html>
END:VEVENT
END:VCALENDAR
