BEGIN:VCALENDAR
VERSION:2.0
PRODID:-//tapahtumainfo.fi//NONSGML ElÃ¤mÃ¤Ã¤ Fiskarsin ruukissa perusnÃ¤yttely//EN
METHOD:REQUEST
BEGIN:VEVENT
UID:20260421T223414-1300142587-tapahtumainfo.fi
DTSTAMP:20260421T223414
DTSTART:20250522T020000Z
DTEND:20301231T020000Z
LOCATION:Fiskarsin museo
SUMMARY:ElÃ¤mÃ¤Ã¤ Fiskarsin ruukissa perusnÃ¤yttely
DESCRIPTION:<html><head></head><body>ElÃ¤mÃ¤Ã¤ Fiskarsin ruukkissa nÃ¤yttelyssÃ¤ esitellÃ¤Ã¤n ruukkilaisten elÃ¤mÃ¤Ã¤ arkena ja pyhÃ¤nÃ¤ 1600-luvulta meidÃ¤n pÃ¤iviimme saakka. Teollisuushuoneessa kerrotaan ruukin toiminnasta ja Fiskarsin tuotteiden valmistuksesta, tyÃ¶lÃ¤iskoti antaa kuvan tyÃ¶lÃ¤isten ahtaista asumisolosuhteista ja ylÃ¤kerrassa astut virkamiesten salonkiin, kouluun ja konttoriin. <br><br>1850-luvulla pystytetty museorakennus toimi alun perin konepajan konttorina, myÃ¶hemmin asuintalona usealle perheelle ja vuodesta 1949 museona. Vuonna 2014 restauroinnin yhteydessÃ¤ tehtyjen vÃ¤riportaiden ja katseluaukkojen avulla pÃ¤Ã¤see nyt myÃ¶s kurkistamaan talon historiaan.<br><br>Tutustu perusnÃ¤yttelyyn Ã¤Ã¤nioppaan avulla osoitteessa https://www.youtube.com/watch?v=5gE7a1X6GKU<br> <br /><br />  Visit event in our website: <a href='https://tapahtumainfo.fi/tapahtuma/2025/05/el-m---fiskarsin-ruukissa-perusn-yttely/403603'>Tapahtumainfo.fi</a></body></html>
END:VEVENT
END:VCALENDAR
