BEGIN:VCALENDAR
VERSION:2.0
PRODID:-//tapahtumainfo.fi//NONSGML EtelÃ¤-Karjalan tarina//EN
METHOD:REQUEST
BEGIN:VEVENT
UID:20260424T132401-1639688776-tapahtumainfo.fi
DTSTAMP:20260424T132401
DTSTART:20231213T020000Z
DTEND:20301231T020000Z
LOCATION:EtelÃ¤-Karjalan museo
SUMMARY:EtelÃ¤-Karjalan tarina
DESCRIPTION:<html><head></head><body>PÃ¤Ã¤set tutustumaan kivikautiseen asumukseen ja 1970-luvun saunamÃ¶kkiin Saimaan rannalla. Istahdat Torkkelinpuistoon Viipurissa ja kuljet 1930-luvun lopun Viipurin kaduilla pienoismallin avulla. KÃ¤vÃ¤iset baarissa ja torin piirakkakojulla ja lopuksi istahdat etelÃ¤karjalaisen pitopÃ¶ydÃ¤n Ã¤Ã¤relle.<br><br>Saimaa -teema tarjoaa nÃ¤yttelyssÃ¤ pitkÃ¤n aikajÃ¤nteen tarinan, jossa kÃ¤sitellÃ¤Ã¤n Saimaan aluetta ja ihmisen ilmestymisestÃ¤ sen rannoille, aina rantojen teollistumisen kautta nykyaikaiseen vapaa-ajanviettoon.<br><br>Raja-teema kÃ¤sittelee EtelÃ¤-Karjalan sijaintia kahden valtakunnan rajalla ja sen tuulista menneisyyttÃ¤ monine rajanvetoineen.<br><br>MeijÃ¤n EtelÃ¤-Karjala keskittyy sotienjÃ¤lkeisen alueen uuden identiteetin etsimiseen toisen maailmansodan aluemenetysten myÃ¶tÃ¤ sekÃ¤ EtelÃ¤-Karjalan kaupungistumiseen.<br><br>NÃ¤yttely on avoinna:<br><br>Talvi 2.1.â31.5. ja 18.8.â30.12.<br>ti-su 11-17<br><br>KesÃ¤ 1.6.â16.8.<br>ma-pe 10-18<br>la-su 11-17<br><br>EtelÃ¤-Karjalan museo on suljettu:<br><br>1.1., <br>pÃ¤Ã¤siÃ¤inen 3.-6.4.<br>vappu 30.4.â1.5., helatorstai 14.5.<br>juhannus 19.â20.6.<br>itsenÃ¤isyyspÃ¤ivÃ¤ 6.12.<br>joulu 23.â26.12. ja 31.12. <br /><br />  Visit event in our website: <a href='https://tapahtumainfo.fi/tapahtuma/2023/12/etel--karjalan-tarina/403621'>Tapahtumainfo.fi</a></body></html>
END:VEVENT
END:VCALENDAR
