BEGIN:VCALENDAR
VERSION:2.0
PRODID:-//tapahtumainfo.fi//NONSGML Hanko vieraissa kÃ¤sissÃ¤//EN
METHOD:REQUEST
BEGIN:VEVENT
UID:20260423T032506-572514605-tapahtumainfo.fi
DTSTAMP:20260423T032506
DTSTART:20170604T020000Z
DTEND:20301231T020000Z
LOCATION:Hangon rintamamuseo
SUMMARY:Hanko vieraissa kÃ¤sissÃ¤
DESCRIPTION:<html><head></head><body>PerusnÃ¤yttely Hanko vieraissa kÃ¤sissÃ¤ on tÃ¤ysin uudistettu. Ajanmukaisessa museorakennuksessa on korkeatasoinen nÃ¤yttelytila, joka tarjoaa hyvÃ¤n yleiskatsauksen tapahtumista vuosien 1939 â1941, jolloin Hangon kaupunki oli strategisesti tÃ¤rkeÃ¤ Suomelle. Varsinaiseen nÃ¤yttelyyn kuuluu valikoima valokuvia, tekstejÃ¤, esineitÃ¤ ja karttoja. Museon uusissa vitriineissÃ¤ on esillÃ¤ ruoanlaittovÃ¤lineitÃ¤, astioita, aseita, mitaleita ja univormuja. NÃ¤yttelyyn kuuluu myÃ¶s dokumenttielokuva Hangon evakuoinnista. NÃ¤yttely esittÃ¤Ã¤ elÃ¤mÃ¤Ã¤ idyllisessÃ¤ Hangon kaupungissa ennen talvisotaa. Itse talvisodalla ja tunteisiin vaikuttaneella Hangon evakuoinnilla maaliskuussa 1940 on asiaankuuluva paikkansa nÃ¤yttelyssÃ¤.<br>NÃ¤yttelyssÃ¤ esitellÃ¤n myÃ¶s Harparskogin linja, joka oli Suomen puolustuksen etulinja, ja jolla oli valtava merkitys Hangon rintaman sotatoimien suhteen. On ainutlaatuinen kokemus vierailla museossa tietÃ¤en, ettÃ¤ Neuvostoliiton vuokraaman alueen raja kulki vain noin sadan metrin pÃ¤Ã¤ssÃ¤. <br /><br />  Visit event in our website: <a href='https://tapahtumainfo.fi/tapahtuma/2017/06/hanko-vieraissa-k-siss/403637'>Tapahtumainfo.fi</a></body></html>
END:VEVENT
END:VCALENDAR
