BEGIN:VCALENDAR
VERSION:2.0
PRODID:-//tapahtumainfo.fi//NONSGML Hiekan taidemuseon perusnÃ¤yttely//EN
METHOD:REQUEST
BEGIN:VEVENT
UID:20260425T175637-1768108393-tapahtumainfo.fi
DTSTAMP:20260425T175637
DTSTART:20200101T020000Z
DTEND:20301231T020000Z
LOCATION:Hiekan taidemuseo
SUMMARY:Hiekan taidemuseon perusnÃ¤yttely
DESCRIPTION:<html><head></head><body>PerusnÃ¤yttelyssÃ¤ on teoksia kotimaisilta taiteilijoilta, kuten Ferdinand von Wrightilta, MunsterhjelmiltÃ¤, Gallen-Kallelalta, EdelfeltiltÃ¤, Haloselta ja EnckelliltÃ¤. Tamperelaisia taiteilijoita edustavat muun muassa Gabriel Engberg, Kaarlo Vuori, Lennu Juvela, Tauno HÃ¤meranta ja Kauko Salmi. PerusnÃ¤yttely on koottu museon omista, monipuolisista kokoelmista siten, ettÃ¤ museossa on pyritty sÃ¤ilyttÃ¤mÃ¤Ã¤n kotimuseon tunnelma. NÃ¤yttelyyn tehdÃ¤Ã¤n pieniÃ¤ muutoksia koko ajan, myÃ¶s sitÃ¤ mukaa, kun nÃ¤yttelyssÃ¤ esillÃ¤ olevia teoksia lÃ¤htee lainaan muihin museoihin. <br /><br />  Visit event in our website: <a href='https://tapahtumainfo.fi/tapahtuma/2020/01/hiekan-taidemuseon-perusn-yttely/403646'>Tapahtumainfo.fi</a></body></html>
END:VEVENT
END:VCALENDAR
