BEGIN:VCALENDAR
VERSION:2.0
PRODID:-//tapahtumainfo.fi//NONSGML Kahiwa Malski tarjoaa museokorttilaiselle pysyvÃ¤n edun//EN
METHOD:REQUEST
BEGIN:VEVENT
UID:20260424T131300-1670461927-tapahtumainfo.fi
DTSTAMP:20260424T131300
DTSTART:20230203T020000Z
DTEND:20501231T020000Z
LOCATION:Lahden visuaalisten taiteiden museo Malva
SUMMARY:Kahiwa Malski tarjoaa museokorttilaiselle pysyvÃ¤n edun
DESCRIPTION:<html><head></head><body>Malvan vieressÃ¤ Malskilla sijaitsee Kahiwan artesaanileipomo sekÃ¤ viinikahvila, jossa kelpaa kÃ¤ydÃ¤ viihtymÃ¤ssÃ¤ museokÃ¤ynnin yhteydessÃ¤. Leipomon myymÃ¤lÃ¤stÃ¤ voi ostaa mukaan viemisiksi esimerkiksi paikan pÃ¤Ã¤llÃ¤ leivottua hapanjuurileipÃ¤Ã¤ tai kÃ¤sin valmistettuja suklaita.<br>kahiwacoffee.fi <br /><br />  Visit event in our website: <a href='https://tapahtumainfo.fi/tapahtuma/2023/02/kahiwa-malski-tarjoaa-museokorttilaiselle-pysyv-n-edun/403686'>Tapahtumainfo.fi</a></body></html>
END:VEVENT
END:VCALENDAR
