BEGIN:VCALENDAR
VERSION:2.0
PRODID:-//tapahtumainfo.fi//NONSGML Katse kuvaan -verkkonÃ¤yttely//EN
METHOD:REQUEST
BEGIN:VEVENT
UID:20260425T225920-1131055243-tapahtumainfo.fi
DTSTAMP:20260425T225920
DTSTART:20250224T020000Z
DTEND:20501231T020000Z
LOCATION:Sastamalan seudun museo
SUMMARY:Katse kuvaan -verkkonÃ¤yttely
DESCRIPTION:<html><head></head><body>Sastamalan seudun museon verkkonÃ¤yttely Katse kuvaan â Ajattelua historian lÃ¤hteillÃ¤ tuo vanhat valokuvat lÃ¤helle katsojaa.<br><br>Erityisesti peruskoululaisille ja toisen asteen opiskelijoille suunnatussa nÃ¤yttelyssÃ¤ pureudutaan valokuvien avulla laaja-alaisten oppimiskokonaisuuksien teemoihin. NÃ¤yttelyn pohdintakysymykset liittyvÃ¤t Opetushallituksen mÃ¤Ã¤rittelemiin laaja-alaisten oppimiskokonaisuuksien sisÃ¤ltÃ¶ihin:<br><br>Peruskoulun 3.â6.-luokkalaisten kokonaisuus keskittyy omiin juuriin ja paikkaan sukupolvien ketjussa sekÃ¤ kotiseudun kulttuurin ja kulttuuriympÃ¤ristÃ¶n muutokseen.<br><br>Peruskoulun 7.â9.-luokkalaisten kokonaisuus johdattaa kestÃ¤vÃ¤n elÃ¤mÃ¤ntavan, muutoskyvykkyyden ja hyvinvoinnin teemojen Ã¤Ã¤relle.<br><br>Kaikille nuorille ja aikuisille (toisen asteen opiskelijat) suunnatussa kokonaisuudessa kÃ¤sitellÃ¤Ã¤n kestÃ¤vÃ¤Ã¤ tulevaisuutta eettisyyden ja ympÃ¤ristÃ¶osaamisen nÃ¤kÃ¶kulmista.<br><br>NÃ¤yttelyyn on mahdollista tutustua itsenÃ¤isesti, ohjaajan johdolla tai ryhmissÃ¤ tyÃ¶skennellen. NÃ¤yttelyn lisÃ¤materiaalit esittelevÃ¤t valokuvaustekniikan historiaa ja Sastamalan seudun museon valokuvakokoelmaa.<br><br>VerkkonÃ¤yttely pohjautuu Sastamalan seudun museon valokuvakokoelmaan ja nÃ¤yttelyyn Kotiseutumme kuvaajat â Valokuvia ja tunnelmia menneiltÃ¤ vuosikymmeniltÃ¤ (avoinna Tornihuvilassa 14.2.2024 â 10.1.2026). <br /><br />  Visit event in our website: <a href='https://tapahtumainfo.fi/tapahtuma/2025/02/katse-kuvaan-verkkon-yttely/403691'>Tapahtumainfo.fi</a></body></html>
END:VEVENT
END:VCALENDAR
