BEGIN:VCALENDAR
VERSION:2.0
PRODID:-//tapahtumainfo.fi//NONSGML Keskisuomalaisuutta etsimÃ¤ssÃ¤//EN
METHOD:REQUEST
BEGIN:VEVENT
UID:20260425T225844-1953750930-tapahtumainfo.fi
DTSTAMP:20260425T225844
DTSTART:20200222T020000Z
DTEND:20501231T020000Z
LOCATION:Keski-Suomen museo
SUMMARY:Keskisuomalaisuutta etsimÃ¤ssÃ¤
DESCRIPTION:<html><head></head><body>KeMun uudessa pysyvÃ¤ssÃ¤ nÃ¤yttelyssÃ¤ voit esimerkiksi kuunnella muistoja ja kertomuksia, ihmetellÃ¤ ja ihailla muuttuvaa keskisuomalaista maisemaa ja ympÃ¤ristÃ¶Ã¤, piipahtaa elokuvissa, lueskella sarjakuvaa kaupungin perustamisvaiheista, fiilistellÃ¤ savusaunan, urheilun tai rÃ¤pin tunnelmia. Lapset voivat pelata entisajan pelejÃ¤, kÃ¤ydÃ¤ markkinoilla, hyppiÃ¤ ruutua tai kokeilla, miten onnistuisi oman kalliomaalauksen teko nykytekniikalla. Ja miltÃ¤ nÃ¤yttÃ¤Ã¤kÃ¤Ã¤n matka Alvar-pojan opastamana yli sadan vuoden takaiseen JyvÃ¤skylÃ¤Ã¤n? <br /><br />  Visit event in our website: <a href='https://tapahtumainfo.fi/tapahtuma/2020/02/keskisuomalaisuutta-etsim-ss/403700'>Tapahtumainfo.fi</a></body></html>
END:VEVENT
END:VCALENDAR
