BEGIN:VCALENDAR
VERSION:2.0
PRODID:-//tapahtumainfo.fi//NONSGML WEEKEND FESTIVAL 2026 - 2PV PE-LA//EN
METHOD:REQUEST
BEGIN:VEVENT
UID:20260422T114716-566781666-tapahtumainfo.fi
DTSTAMP:20260422T114716
DTSTART:20260731T200000Z
DTEND:20260731T020000Z
LOCATION:Vermon Ravirata
SUMMARY:WEEKEND FESTIVAL 2026 - 2PV PE-LA
DESCRIPTION:<html><head></head><body><p class="MsoNormal">  <b>Weekend Festival 2026 Blind-liput nyt myynnissä!</b><br></p><p class="MsoNormal">  Weekend toteutuu jälleen ensi vuonna samassa paikassa Espoo Vermossa   elokuun alussa. Festivaali jatkaa K-18-tapahtumana.<br></p><p class="MsoNormal">  <b>Ikäraja</b></p><p class="MsoNormal">  Festivaali on suunnattu vain täysi-ikäisille kävijöille (K-18).   Henkilöllisyystodistuksina käyvät vain voimassa olevat   henkilöllisyystodistukset joista henkilö on tunnistettavissa: poliisin   myöntämä henkilökortti, passi tai ajokortti.</p><p class="MsoNormal">  Festivaali ei korvaa alaikäiselle ostettua festivaalilippua.<br></p><p class="MsoNormal">  <b>Aikataulu</b></p><p class="MsoNormal">  Festivaali-alue on auki molempina päivinä klo 15–00. Portit suljetaan   klo 23, jonka jälkeen alueelle ei pääse enää sisälle.<br></p><p class="MsoNormal">  <b>Esteettömyys ja avustajat</b></p><p class="MsoNormal">  Avustettava tarvitsee tapahtumaan tavallisen lipun. Henkilökohtainen   avustaja pääsee avustettavan seurassa ilmaiseksi festivaalialueelle.   Avustaja ei tarvitse omaa erillistä lippua, ja saa oman rannekkeen   festivaalialueen portilta. Avustettava ja avustaja voivat käyttää   yhdessä DIAMOND-sisäänkäyntiä saapuessaan festivaalialueelle. Avustuksen   tarve tulee tarvittaessa todistaa esim. Vammais- tai saattajakortilla   tai muulla virallisella todistuksella.</p><p class="MsoNormal">  Festivaalialue on esteetön, lukuunottamatta Diamond-alueen korotettua   katsomoa. Päälavan ja Future-lavan edessä on invakoroke, joiden vierestä   löytyy myös inva wc:t.</p><p class="MsoNormal">   __________________________<br></p><p class="MsoNormal">  <b>Weekend Festival</b></p><p class="MsoNormal">  Vuodesta 2012 lähtien on vietetty vuoden parhaita viikonloppubileitä   Weekend Festivalissa. Viikonlopun aikana nautitaan musiikista,   monipuolisista oheispalveluista sekä laadukkaista ruokaelämyksistä.</p><p class="MsoNormal">  Pohjoismaiden suurimman elektroniseen musiikkiin painottuvan festivaalin   lisäksi tapahtuma edustaa myös paljon muuta, kuten iloa,   yhteisöllisyyttä ja musiikin voimaa. Yli kymmenen vuoden ajan festivaali   on tuonut lukuisia kansainvälisiä tähtiä genrerajoja ylittäen, tuoden   ennennäkemättömiä esityksiä Suomeen hulppeiden lavojen, lasereiden ja   pyrotekniikoiden avulla.</p><p class="MsoNormal">  Weekend Festivalissa on esiintynyt tähän mennessä yli 800 artistia eri   puolilta maailmaa ja vuosien aikana kerännyt yli 840 000 kävijää   yhteensä yli 50 eri maasta. Weekend Festival on järjestetty Suomen   lisäksi myös Virossa ja Ruotsissa. Festivaali on palkittu YleX:n   toimesta parhaana suomalaisena festivaalina neljä kertaa, sekä ollut   ehdolla Europe Awards -listalla Euroopan parhaana festivaalina. </p> <br /><br />  Visit event in our website: <a href='https://tapahtumainfo.fi/tapahtuma/2026/07/weekend-festival-2026-2pv-pe-la/404602'>Tapahtumainfo.fi</a></body></html>
END:VEVENT
END:VCALENDAR
