BEGIN:VCALENDAR
VERSION:2.0
PRODID:-//tapahtumainfo.fi//NONSGML Rajaton Joulu 2025//EN
METHOD:REQUEST
BEGIN:VEVENT
UID:20260424T192008-614004757-tapahtumainfo.fi
DTSTAMP:20260424T192008
DTSTART:20251215T180000Z
DTEND:20251215T020000Z
LOCATION:Keski-Porin kirkko
SUMMARY:Rajaton Joulu 2025
DESCRIPTION:<html><head></head><body>Joulun odotetuin soundtrack on taas täällä!<br><br>Suomalaisen a cappella -musiikin kruununjalokivi, Lauluyhtye Rajaton suuntaa jälleen odotetulle joulukiertueelleen. Kymmenille tuhansille suomalaisille perinteeksi muodostuneet Rajattoman joulukonsertit tuovat lämpöä ja joulutunnelmaa konserttisaleihin ja kirkkoihin ympäri Suomen. Musiikillisesta taituruudestaan tunnettu lauluyhtye tulkitsee konserteissaan yleisön rakastamia joulun suosikkikappaleita sekä täysin uusia sävellyksiä kuuden ainutlaatuisen äänen voimin.  <br><br>"Joulukiertue on meille erityisen rakas perinne. On valtavan hienoa päästä esiintymään niin uusille kuulijoille kuin niille, jotka ovat tehneet konserteistamme osan omaa jouluperinnettään jo vuosien ajan.” Rajaton iloitsee.<br><br>Tervetuloa konsertteihin – joulu on Rajaton! <br /><br />  Visit event in our website: <a href='https://tapahtumainfo.fi/tapahtuma/2025/12/rajaton-joulu-2025/404917'>Tapahtumainfo.fi</a></body></html>
END:VEVENT
END:VCALENDAR
