BEGIN:VCALENDAR
VERSION:2.0
PRODID:-//tapahtumainfo.fi//NONSGML KÃ¤denjÃ¤lki - Taidon kertomaa / pysyvÃ¤ nÃ¤yttely//EN
METHOD:REQUEST
BEGIN:VEVENT
UID:20260420T023234-224414545-tapahtumainfo.fi
DTSTAMP:20260420T023234
DTSTART:20250627T020000Z
DTEND:20501231T020000Z
LOCATION:Suomen kÃ¤sityÃ¶n museo
SUMMARY:KÃ¤denjÃ¤lki - Taidon kertomaa / pysyvÃ¤ nÃ¤yttely
DESCRIPTION:<html><head></head><body>Suomalaiseen kÃ¤sillÃ¤ tekemisen perinteeseen syventyvÃ¤ pysyvÃ¤ nÃ¤yttely tuo esiin koskettavaa kÃ¤sityÃ¶tÃ¤ ja tarinoita kÃ¤sin tyÃ¶stetystÃ¤ suomalaisesta elÃ¤mÃ¤stÃ¤ sukupolvien takaa aina tÃ¤hÃ¤n pÃ¤ivÃ¤Ã¤n. NÃ¤yttelyssÃ¤ taito, materiaalit, ideat ja kestÃ¤vÃ¤n elÃ¤mÃ¤n nÃ¤kÃ¶kulma leipoutuvat yhdeksi merkittÃ¤vÃ¤ksi suomalaista kulttuuria avaavaksi kokonaisuudeksi.<br><br>NÃ¤yttelyssÃ¤ sukellamme kÃ¤sityÃ¶n kokonaisvaltaisuuteen ja monimuotoisuuteen, esittelemme elÃ¤vÃ¤Ã¤ kÃ¤sityÃ¶perinnettÃ¤ sekÃ¤ kÃ¤sityÃ¶n historiaa ja nykykulttuuria. KÃ¤sityÃ¶ alkaa ideasta, joka voi syntyÃ¤ tarpeista, elÃ¤myksistÃ¤, esimerkeistÃ¤ tai ilmaisunhalusta. Inspiraatiota voi ammentaa mistÃ¤ tahansa â luonnosta, historiasta, taiteesta ja trendeistÃ¤. Tule ja koe, miten ideat jalostuvat hahmottelemalla, luonnostelemalla ja materiaalia muotoilemalla. <br><br>Materiaalit ovat kÃ¤sitÃ¶iden keskiÃ¶ssÃ¤, ja nÃ¤yttelyssÃ¤ tuodaan esiin muutaman luonnonmateriaalin mahdollisuuksia sekÃ¤ kurkistetaan tulevaisuuden materiaaleihin ja niiden mahdollisuuksiin. KÃ¤sityÃ¶taidon kehittyminen vaatii harjoitusta, kokeiluja, epÃ¤onnistumisia, oivalluksia ja onnistumisia. Oman tekniikkansa mestaria ei synny hetkessÃ¤. <br><br>KÃ¤sityÃ¶taidot ovat osa suomalaista kulttuuriperintÃ¶Ã¤, ja nÃ¤yttelyssÃ¤ pohdimme, kuinka vaalimme tÃ¤tÃ¤ perintÃ¶Ã¤ ja millaisia ovat tulevaisuuden kÃ¤sityÃ¶taidot. <br><br>MitÃ¤ tarkoittaa kestÃ¤vÃ¤ kÃ¤denjÃ¤lki? NÃ¤yttelyssÃ¤ tarkastelemme tÃ¤tÃ¤ eri nÃ¤kÃ¶kulmista ja kerromme, mitÃ¤ tarkoittaa kestÃ¤vÃ¤ kÃ¤denjÃ¤lki kÃ¤sityÃ¶n osalta. Onko se vanhan korjaamista vai uuden hankkimista? Tule oppimaan, miten voit tehdÃ¤ ekologisia ja eettisiÃ¤ valintoja kÃ¤sitÃ¶issÃ¤.<br><br>Kokeilutilassa voit ihmetellÃ¤, oivaltaa ja tarkastella moniaistisesti. NÃ¤yttelyn eri osa-alueet kohtaavat uteliaisuuden Ã¤Ã¤rellÃ¤, ja kÃ¤vijÃ¤ voi tuumata nÃ¤yttelyssÃ¤ nÃ¤kemiÃ¤Ã¤n asioita kosketeltavien esineiden Ã¤Ã¤rellÃ¤. Kokeilutilassa voit myÃ¶s jÃ¤ttÃ¤Ã¤ oman merkkisi kÃ¤ynnistÃ¤si. <br><br>Valmistaudu kokemaan kÃ¤sityÃ¶n mahdollisuudet ja jÃ¤tÃ¤ oma kÃ¤denjÃ¤lkesi! NÃ¤yttelyn jÃ¤lkeen katselet kÃ¤sityÃ¶tÃ¤ uudistunein silmin. <br /><br />  Visit event in our website: <a href='https://tapahtumainfo.fi/tapahtuma/2025/06/k-denj-lki-taidon-kertomaa-pysyv--n-yttely/405275'>Tapahtumainfo.fi</a></body></html>
END:VEVENT
END:VCALENDAR
