BEGIN:VCALENDAR
VERSION:2.0
PRODID:-//tapahtumainfo.fi//NONSGML KÃ¤mppÃ¤emÃ¤nnÃ¤n kammari//EN
METHOD:REQUEST
BEGIN:VEVENT
UID:20260424T162721-1007912089-tapahtumainfo.fi
DTSTAMP:20260424T162721
DTSTART:20230604T020000Z
DTEND:20301231T020000Z
LOCATION:Lapin MetsÃ¤museo
SUMMARY:KÃ¤mppÃ¤emÃ¤nnÃ¤n kammari
DESCRIPTION:<html><head></head><body>Ahmakuusikon kÃ¤mpÃ¤n keittiÃ¶n takana on soma emÃ¤nnÃ¤n kammari. KÃ¤mppÃ¤emÃ¤nnÃ¤t, Lapissa puhuttiin savottakokeista, tekivÃ¤t raskasta ja arvokasta tyÃ¶tÃ¤ jÃ¤tkien ravitsemuksen, siisteyden ja muun huollon eteen. <br /><br />  Visit event in our website: <a href='https://tapahtumainfo.fi/tapahtuma/2023/06/k-mpp-em-nn-n-kammari/405276'>Tapahtumainfo.fi</a></body></html>
END:VEVENT
END:VCALENDAR
