BEGIN:VCALENDAR
VERSION:2.0
PRODID:-//tapahtumainfo.fi//NONSGML Nummirock 2026//EN
METHOD:REQUEST
BEGIN:VEVENT
UID:20260426T020743-537394170-tapahtumainfo.fi
DTSTAMP:20260426T020743
DTSTART:20260617T020000Z
DTEND:20260617T020000Z
LOCATION:Nummijärvi
SUMMARY:Nummirock 2026
DESCRIPTION:<html><head></head><body><h1>Nummirock 2026!</h1><br /><br /><p><strong>Lipunhinta sisältää leirinnän, teltta- ja autopaikan valvotulla leirintäalueella lipun voimassaoloajan.</strong><br></p><br /><p><strong>Liput vaihdetaan rannekkeisiin. Katso tarkemmat ohjeet ja rannekkeenvaihtopisteet lähempänä tapahtumaa: <a href="https://www.nummirock.fi/" target="_blank">www.nummirock.fi</a>.<br></strong></p><br /><p><strong><strong>Suositusikäraja yksin saapuville: </strong></strong>16 vuotta<br>Alle 10-vuotiaat ilmaiseksi vanhempansa kanssa.  </p><br /><p><strong>4 päivän Premium paketti (4 päivän lippu ja 3 päivän Premium -ranneke)<br></strong></p><br /><ul><li>Sisäänpääsy <a href="https://nummirock.fi/nummikievari" target="_blank" rel="noopener noreferrer nofollow">NummiKievariin</a> kolmena festivaalipäivänä 18. - 20.6.2026</li><li>Alueelta suora näkyvyys päälavalle.</li><li>Mahdollisuus erilaiseen ruokailuelämykseen.</li><li>Mahdollisuus tavata bändejä meet & greet -tilaisuuksissa.</li><li>Alueella omat wc-palvelut.</li><li>Ikäraja K-18.</li><li>HUOM! Sisältää neljän päivän festarilipun ja leiriytymisen koko tapahtuman ajaksi.</li></ul><br /><p>Uutena lipputyyppinä myynnissä nyt <strong>TEINARILIPUT</strong> (10-15 v.)</p><br /><p>Haluamme olla kasvattamassa uutta rokkisukupolvea monella tavalla. Yksi konsti on sallia heille edullisemmat liput vanhempiensa kanssa.</p><br /><p>Lippuja ostettaessa on varauduttava todistamaan nuoren henkilöllisyys. Henkilöllisyys on myös pystyttävä todistamaan rannekkeen vaihdossa festarialueen portilla.</p> <br /><br />  Visit event in our website: <a href='https://tapahtumainfo.fi/tapahtuma/2026/06/nummirock-2026/405389'>Tapahtumainfo.fi</a></body></html>
END:VEVENT
END:VCALENDAR
