BEGIN:VCALENDAR
VERSION:2.0
PRODID:-//tapahtumainfo.fi//NONSGML Together//EN
METHOD:REQUEST
BEGIN:VEVENT
UID:20260423T113444-1131994798-tapahtumainfo.fi
DTSTAMP:20260423T113444
DTSTART:20250925T211500Z
DTEND:20250925T230700Z
LOCATION:Tennispalatsi, Helsinki, sali 11
SUMMARY:Together
DESCRIPTION:<html><head></head><body>Muutto maaseudulle koettelee jo valmiiksi pariskunnan suhteen rajoja, mutta yliluonnollinen kohtaaminen käynnistää äärimmäisen muutoksen heidän rakkaudessaan, elämässään ja lihassaan. <br /><br />  Visit event in our website: <a href='https://tapahtumainfo.fi/tapahtuma/2025/09/together/405582'>Tapahtumainfo.fi</a></body></html>
END:VEVENT
END:VCALENDAR
