BEGIN:VCALENDAR
VERSION:2.0
PRODID:-//tapahtumainfo.fi//NONSGML Karjalan neito - Laulumailta digikunnaille//EN
METHOD:REQUEST
BEGIN:VEVENT
UID:20260423T101806-1417380294-tapahtumainfo.fi
DTSTAMP:20260423T101806
DTSTART:20251011T020000Z
DTEND:20301231T020000Z
LOCATION:Museo Eliel
SUMMARY:Karjalan neito - Laulumailta digikunnaille
DESCRIPTION:<html><head></head><body>Karjalan Neito -nÃ¤yttely kutsuu tutkimaan karjalaisuuden monimuotoisuutta ja kansankulttuurin ilmiÃ¶itÃ¤.<br><br>Millaista elÃ¤mÃ¤ ja naisen asema ovat Karjalassa, jota sodat, rauhat ja yhteiskunnan mullistukset ovat muovanneet lÃ¤pi historian? <br><br>Vastauksia tarjoavat tavalliset kansan naiset, runonlaulun ja itkujen taitajat, sotien jÃ¤lkeiset yhteiskunnalliset vaikuttajat sekÃ¤ nykyiset karjalaiset.<br><br>Museovieras kulkee nÃ¤yttelyssÃ¤ lÃ¤pi alueen eri aikakausien ja elÃ¤mÃ¤nvaiheiden itse Karjalan neidon opastuksella. Pohjoiskarjalainen laulaja-lauluntekijÃ¤ Anna Puu on lainannut Ã¤Ã¤nensÃ¤ nÃ¤yttelyssÃ¤ esiintyvÃ¤lle neidolle.<br><br>Karjalan Neito esittÃ¤Ã¤ alueen historian ja kulttuurin kirjavana kudelmana, joka on tarjonnut inspiraatiota taiteilijoille jo vuosisatojen ajan.<br><br>NÃ¤yttelyssÃ¤ vierailija pÃ¤Ã¤see tutustumaan sekÃ¤ Suomi-kuvaa rakentaneisiin karelianisteihin ettÃ¤ nykyhetkessÃ¤ omaa karjalasuhdettaan mÃ¤Ã¤ritteleviin taiteilijoihin. <br><br>Karjalan kieli nÃ¤kyy ja kuuluu tÃ¤rkeÃ¤nÃ¤ osana nÃ¤yttelyÃ¤.<br><br>Karjalan Neito kokoaa yhteen tÃ¤mÃ¤n hetken mielenkiintoisimpia tulkintoja nykykarjalaisuudesta, jotka jatkavat perinteitÃ¤ ja muovaavat karjalaisuutta uudelle sukupolvelle.<br><br>NÃ¤yttelyssÃ¤ esitellÃ¤Ã¤n mm. Ekho Collectiven, Antrea Kantakosken, Jyrki Haapalan sekÃ¤ Riitta Turusen ja Outi SÃ¤rkikosken tÃ¶itÃ¤.<br><br>NÃ¤yttely huipentuu karjalaisiin pitoihin, jossa nykypÃ¤ivÃ¤n Karjalan hyvÃ¤ntuuliset tapahtumat ovat osa kansanjuhlien jatkumoa.<br><br>Musiikki ja laulut muuttuvat, mutta yhteinen ilonpito on liitetty karjalaisuuteen kautta aikojen.<br><br>Karjalan Neito kutsuu kaikki museovieraat yhteiseen ilonpitoon!<br> <br /><br />  Visit event in our website: <a href='https://tapahtumainfo.fi/tapahtuma/2025/10/karjalan-neito-laulumailta-digikunnaille/406215'>Tapahtumainfo.fi</a></body></html>
END:VEVENT
END:VCALENDAR
