BEGIN:VCALENDAR
VERSION:2.0
PRODID:-//tapahtumainfo.fi//NONSGML Juha Tapio: Joulu 2025//EN
METHOD:REQUEST
BEGIN:VEVENT
UID:20260422T191445-1033221319-tapahtumainfo.fi
DTSTAMP:20260422T191445
DTSTART:20251212T190000Z
DTEND:20251212T020000Z
LOCATION:HELSINGIN VANHA KIRKKO
SUMMARY:Juha Tapio: Joulu 2025
DESCRIPTION:<html><head></head><body><!doctype html><br /><html lang="fi"><br /><head><br />  <meta charset="utf-8" /><br />  <meta name="viewport" content="width=device-width,initial-scale=1" /><br />  <title>Juha Tapio — Joulu 2025 — Konserttikiertue</title><br />  <style><br />    :root{<br />      --bg:#ffffff; --text:#111; --accent:#b23a48; --muted:#6b7280;<br />      font-family: system-ui, -apple-system, "Segoe UI", Roboto, "Helvetica Neue", Arial;<br />    }<br />    body{background:var(--bg);color:var(--text);margin:0;padding:28px;line-height:1.6}<br />    .card{max-width:820px;margin:20px auto;padding:26px;border-radius:12px;box-shadow:0 8px 26px rgba(16,24,40,0.06);border:1px solid #f3e8e9}<br />    h1{font-size:1.6rem;margin:0 0 6px}<br />    .subtitle{color:var(--muted);margin:0 0 18px}<br />    p{margin:0 0 14px}<br />    .meta{display:flex;flex-wrap:wrap;gap:12px;color:var(--muted);font-size:0.95rem;margin-top:10px}<br />    .cta{display:inline-block;margin-top:18px;padding:10px 16px;border-radius:10px;background:var(--accent);color:#fff;text-decoration:none;font-weight:600}<br />    footer{margin-top:18px;color:var(--muted);font-size:0.88rem}<br />    @media (prefers-color-scheme:dark){<br />      :root{--bg:#07101a;--text:#eaf2f8;--muted:#9fb0c8;--accent:#ff6b78}<br />      .card{border-color:rgba(255,255,255,0.04);box-shadow:none}<br />    }<br />  </style><br /></head><br /><body><br />  <article class="card" aria-labelledby="title"><br />    <header><br />      <h1 id="title">Juha Tapio — Joulu 2025</h1><br />      <p class="subtitle">Koskettavia joulukonsertteja Vanhan kirkon ja muiden kauniiden kirkkotilojen ilmapiirissä.</p><br />    </header><br /><br />    <section><br />      <p>Juha Tapion Joulu 2025 -konserttikiertue tarjoaa ainutlaatuisen mahdollisuuden kokea artistin musiikkia joulun hengessä. Konserteissa yhdistyvät hänen rakastetut kappaleensa ja perinteiset joululaulut, jotka on sovitettu koskettavalla ja sielukkaalla tavalla. Tavoitteena on luoda hetki, jossa yleisö voi rauhoittua vuoden kiireiden keskellä ja virittäytyä joulun tunnelmaan.</p><br /><br />      <p>Kiertueella Juha Tapio esiintyy yhdessä yhtyeensä kanssa valikoiduissa kirkoissa ympäri Suomen, myös sellaisissa tiloissa, joissa hän ei ole aiemmin konsertoinut <br /><br />  Visit event in our website: <a href='https://tapahtumainfo.fi/tapahtuma/2025/12/juha-tapio-joulu-2025/406366'>Tapahtumainfo.fi</a></body></html>
END:VEVENT
END:VCALENDAR
