BEGIN:VCALENDAR
VERSION:2.0
PRODID:-//tapahtumainfo.fi//NONSGML Patrick Linman & Kee Marcello Acoustic/Electric//EN
METHOD:REQUEST
BEGIN:VEVENT
UID:20260422T043723-1687674026-tapahtumainfo.fi
DTSTAMP:20260422T043723
DTSTART:20270115T190000Z
DTEND:20270115T020000Z
LOCATION:Kulturhuset Karelia
SUMMARY:Patrick Linman & Kee Marcello Acoustic/Electric
DESCRIPTION:<html><head></head><body>Det blir en avskalad rockkonsert med Patrick på akustisk gitarr & sång och Kee på elgitarr & sång. Med sig har de också den eminenta pianisten Johnny Nordström.<br /><br />17.4 kl 19.00 Kulturhuset Grand, Borgå - AVBOKAD<br />18.4 kl 19.00 Kulturhuset Karelia, Ekenäs flyttas till 15.1.2027<br /><br />Biljett 35€<br /><br />Evenemanget är K-18<br /><br />Längd 2,5h inkl. paus <br /><br />  Visit event in our website: <a href='https://tapahtumainfo.fi/tapahtuma/2027/01/patrick-linman-kee-marcello-acoustic-electric/406574'>Tapahtumainfo.fi</a></body></html>
END:VEVENT
END:VCALENDAR
