BEGIN:VCALENDAR
VERSION:2.0
PRODID:-//tapahtumainfo.fi//NONSGML &FEST: ZONA FRANCA//EN
METHOD:REQUEST
BEGIN:VEVENT
UID:20260423T183659-599458112-tapahtumainfo.fi
DTSTAMP:20260423T183659
DTSTART:20260327T183000Z
DTEND:20260327T020000Z
LOCATION:&Louhisali, Kulttuuriaukio 2, Tapiola
SUMMARY:&FEST: ZONA FRANCA
DESCRIPTION:<html><head></head><body>Zona Francassa yhdistyvät kaoottinen energia ja yllättävä seesteisyys. Maineikkaan <b>Alice Ripollin</b> teos on syntynyt yhteistyössä Cia Suave -tanssiryhmän kanssa, jonka jäsenet tulevat Rio de Janeiron faveloista. He ovat luoneet leikin ja vapauden tilan, jossa brasilialaiset katutanssilajit yhdistyvät nykytanssiin, performanssiin, kontaktiimprovisaatioon ja TikTok-koreografioihin. Zona Franca saa inspiraationsa paikoista, joissa ihmiset kokoontuvat – hengellisistä tilaisuuksista reiveihin.<br><br>Kiihkeän ilonpidon lomassa teos heijastelee Brasilian yhteiskunnallista muutosta ja nuorison toiveita paremmasta tulevaisuudesta. Se kertoo toivosta ja optimismista Brasilian presidenttien <b>Jair Bolsonaron </b>ja<b> Luiz Inácio Lula da Silvan</b> kausien välisenä siirtymäaikana. Ripollin mukaan Zona Franca on yritys kuvata Brasiliaa, joka on täynnä euforiaa, toivoa, epävarmuutta ja kaaosta: yhteiskuntaa, joka etsii itseään ja juuriaan.<br><br>Ikäsuositus 16+<br>Kesto 1 t 15 min, ei väliaikaa<br>Ei perustu kieleen<br><br><a href="www.espoonteatteri.fi" target="_blank">www.espoonteatteri.fi</a> <br /><br />  Visit event in our website: <a href='https://tapahtumainfo.fi/tapahtuma/2026/03/fest-zona-franca/407217'>Tapahtumainfo.fi</a></body></html>
END:VEVENT
END:VCALENDAR
