BEGIN:VCALENDAR
VERSION:2.0
PRODID:-//tapahtumainfo.fi//NONSGML Ylioppilaskunnan Laulajat: Perinteiset joulukonsertit//EN
METHOD:REQUEST
BEGIN:VEVENT
UID:20260421T190525-192877711-tapahtumainfo.fi
DTSTAMP:20260421T190525
DTSTART:20251202T210000Z
DTEND:20251202T020000Z
LOCATION:Kallion kirkko
SUMMARY:Ylioppilaskunnan Laulajat: Perinteiset joulukonsertit
DESCRIPTION:<html><head></head><body>Ylioppilaskunnan Laulajien perinteiset joulukonsertit kuuluvat Helsingin rakastetuimpiin jouluperinteisiin. Lähde nauttimaan tunnelmallisten joululaulujen lumosta yhdessä perheen ja ystävien kanssa! <br /><br />  Visit event in our website: <a href='https://tapahtumainfo.fi/tapahtuma/2025/12/ylioppilaskunnan-laulajat-perinteiset-joulukonsertit/407414'>Tapahtumainfo.fi</a></body></html>
END:VEVENT
END:VCALENDAR
