BEGIN:VCALENDAR
VERSION:2.0
PRODID:-//tapahtumainfo.fi//NONSGML Reidarin Lapin värit Oulussa -näyttelyn luentotilaisuudet//EN
METHOD:REQUEST
BEGIN:VEVENT
UID:20260419T161415-132405487-tapahtumainfo.fi
DTSTAMP:20260419T161415
DTSTART:20250928T020000Z
DTEND:20250928T020000Z
LOCATION:Reidar Särestöniemi taidenäyttely
SUMMARY:Reidarin Lapin värit Oulussa -näyttelyn luentotilaisuudet
DESCRIPTION:<html><head></head><body><h3>Reidar Särestöniemi 100 v. juhlanäyttely, Oulu</h3><br /><p>Reidar Särestöniemi taidenäyttely järjestetään osana Reidar <br />Särestöniemi 100 -juhlavuotta Oulussa osoitteessa Torikatu 7, 90100 <br />Oulu, ajalla 28.9.–31.12.2025.</p><br /><p>Näyttelyssä on esillä Reidar Särestöniemen öljyväriteoksia kolmesta <br />oululaisesta yksityiskokoelmasta. Lisäksi näyttelyssä on esillä 10–15 <br />isoa valokuvateosta oululaiselta valokuvaajalta Ilkka Jaakolalta. <br />Jaakola vietti vuonna 1977 kuukauden Reidar Särestöniemen luona kuvaten <br />tämän työskentelyä ateljeessa ja taitelijan päivittäistä arkea <br />Särestöniemessä.</p><br /><p>Oulun kirjamessujen aikana (10.10.–12.10.2025) näyttelyssä luennoi <br />Reidar Särestöniemestä vastikään kirjan julkaissut Noora Vaarala. <br />Lisäksi muistojaan Särestöniemestä kertoo valokuvaaja Ilkka Jaakola ja <br />taidesijoittamisesta luennoi taideasiantuntija Pauliina Laitinen. Näihin<br /> tilaisuuksiin tulee myyntiin erilliset liput.</p><br /><br /><p>Näyttely on avoinna joka päivä klo 10.00-20.00.</p><br /><p>Pääsylippu on kertakäyttöinen. Liput myydään vain Tiketistä.<br></p><br /><p>Ikärajaton, alle 18-vuotiaat ilmaiseksi.</p><br /><p>Taidenäyttelyn sisäänpääsymaksu sisältyy luentotapahtuman sisäänpääsymaksuun.</p><br /><p>***</p><br /><p><strong>Esteettömyys: </strong></p><br /><p>Ei esteetön.<br>Näyttelytilaan on ulkona kaksi matalaa porrasta. Näyttely on muuten sisältä esteetön.<br>Avustaja pääsee ilmaiseksi avustettavan kanssa samalla lipulla.</p> <br /><br />  Visit event in our website: <a href='https://tapahtumainfo.fi/tapahtuma/2025/09/reidarin-lapin-varit-oulussa-nayttelyn-luentotilaisuudet/408232'>Tapahtumainfo.fi</a></body></html>
END:VEVENT
END:VCALENDAR
