BEGIN:VCALENDAR
VERSION:2.0
PRODID:-//tapahtumainfo.fi//NONSGML KokoelmanÃ¤yttely â Kaksi huonetta//EN
METHOD:REQUEST
BEGIN:VEVENT
UID:20260423T112205-2108460613-tapahtumainfo.fi
DTSTAMP:20260423T112205
DTSTART:20251010T020000Z
DTEND:20500101T020000Z
LOCATION:Ars Nova
SUMMARY:KokoelmanÃ¤yttely â Kaksi huonetta
DESCRIPTION:<html><head></head><body>Kaksi huonetta -kokoelmanÃ¤yttely luo katsauksen museon taidekokoelmaan.<br><br>Teoksia on nÃ¤htÃ¤villÃ¤ seuraavilta taiteilijoilta:<br><br>Karel Appel, Hans-Christian Berg, Kari CavÃ©n, Alvar Gullichsen, Auguste Herbin, Kaisu Koivisto, AndrÃ© Masson, Pablo Picasso, Sulho SipilÃ¤. <br /><br />  Visit event in our website: <a href='https://tapahtumainfo.fi/tapahtuma/2025/10/kokoelman-yttely--kaksi-huonetta/408366'>Tapahtumainfo.fi</a></body></html>
END:VEVENT
END:VCALENDAR
