BEGIN:VCALENDAR
VERSION:2.0
PRODID:-//tapahtumainfo.fi//NONSGML Opehuone-komediamusikaali//EN
METHOD:REQUEST
BEGIN:VEVENT
UID:20260424T190844-2002183132-tapahtumainfo.fi
DTSTAMP:20260424T190844
DTSTART:20260328T140000Z
DTEND:20260328T020000Z
LOCATION:Aleksanterin teatteri
SUMMARY:Opehuone-komediamusikaali
DESCRIPTION:<html><head></head><body><b>OPEHUONE</b><br><br>komediamusikaali opettajista, koululaisista ja kahvista!<br><br>Jos olet joskus miettinyt, mitä opettajainhuoneessa oikeasti tapahtuu, vastaus on täällä. Opehuone -musikaali on Niina Lahtisen käsikirjoittama, Katja Lapin säveltämä sekä Jukka Kurosen ohjaama uusi hulvaton komediamusikaali, jossa koulun henkilökunta tasapainoilee opetusvelvollisuuksien, resurssipulan ja rehtorin kunnianhimoisten ideoiden keskellä. Ja kaikki tämä tietenkin vailla yhtään sisäilmaongelmaa.<br><br>Kun koulun suurta musikaaliprojektia aletaan toteuttaa, vastassa ovat paitsi digiloikkaan hurahtanut mediaope, kahviin keskittynyt äikänope ja perinteistä kuria vaativa liikunnanopettaja. Haasteensa koulun arkeen tuovat myös opiskelijoiden vanhemmat, joiden kirjo on toisinaan sanoinkuvaamaton. Kun musikaalin päätähti katoaa kesken kaiken Alpeille, on koko show vaarassa.<br><br>Niina Lahtinen, Ernest Lawson, Krisse Salminen ja Christoffer Strandberg marssittavat lavalle 40 roolia, salamannopeilla hahmovaihdoilla ja tuhdilla huumorilla varustettuina. Kouluarkea nerokkaasti parodioivat musiikkinumerot tekevät Opehuoneesta täydellisen elämyksen kaikille, jotka ovat joskus käyneet koulussa – tai toipuvat vieläkin siitä kokemuksesta.<br>Tämä musikaali on ennenkaikkea ylistys opettajille, jotka tekevät maailman tärkeintä työtä.<br><br>Syksyllä 2025 Aleksanterin teatterissa – hanki lippusi, ennen kuin resurssit loppuvat!<br><br><b>Hinnat:</b><br>Peruslippu 58/50 €<br>Alennusryhmät 53/45 €<br><br><b>Esitykset:</b><br>To 6.11.2025 klo 18.30<br>Pe 7.11.2025 klo 18.30<br>La 8.11.2025 klo 14  klo 18<br>Pe 14.11.2025 klo 18.30<br>La 15.11.2025 klo 14  klo 18 <br /><br />  Visit event in our website: <a href='https://tapahtumainfo.fi/tapahtuma/2026/03/opehuone-komediamusikaali/409522'>Tapahtumainfo.fi</a></body></html>
END:VEVENT
END:VCALENDAR
