BEGIN:VCALENDAR
VERSION:2.0
PRODID:-//tapahtumainfo.fi//NONSGML Seitsemän veljestä//EN
METHOD:REQUEST
BEGIN:VEVENT
UID:20260423T113800-457921454-tapahtumainfo.fi
DTSTAMP:20260423T113800
DTSTART:20260418T180000Z
DTEND:20260418T020000Z
LOCATION:Jyväskylän kaupunginteatteri Aune-sali, Paviljonki
SUMMARY:Seitsemän veljestä
DESCRIPTION:<html><head></head><body>Aleksis Kiven Seitsemän veljestä on moderni ja raikkaan radikaali kirja. Siinä seitsemän syrjäytynyttä nuorta vetäytyy kymmeneksi vuodeksi luonnontilaiseen metsään opiskelemaan sekä lukutaitoa että yhteiskunnan lukutaitoa. <br><br>Kertomuksen muoto on nerokas. Mikään ei ole seitsikolle helppoa, joten he epäonnistuvat jatkuvasti. Kriisiä seuraa kiihkeä kriisikokous, jossa ideoidaan korjausliike, joka päättyy uuteen katastrofiin. Ja taas on palaverin paikka. <br><br>Veljekset ovat kuin ihmiskunta pienoiskoossa. Toisiinsa tukeutuen he selviävät kuin ihmeen kaupalla hengissä ja tolkuissaan kertomuksen tasapainoiseen loppuun. <br><br>Juha Hurmeen sovitus ja ohjaus ei modernisoi Aleksis Kiven visiota, koska se olisi turhaa ja typerää; Seitsemän veljestä on ajatonta maailmankirjallisuutta. <br><br>Kiven sanoituksella siis edetään tässä hurjassa seikkailukomediassa. Käytössä on toki Hurmeen uusi "suomennos", jossa Kiven 155 vuotta vanhaa kieltä on taiten huollettu nykysuomen suuntaan alkuperäistä sointia hukkaamatta. <br><br>Ensi-ilta 14.11.2025 <br><br>Liput 40/38/27 € <br /><br />  Visit event in our website: <a href='https://tapahtumainfo.fi/tapahtuma/2026/04/seitseman-veljesta/409641'>Tapahtumainfo.fi</a></body></html>
END:VEVENT
END:VCALENDAR
