BEGIN:VCALENDAR
VERSION:2.0
PRODID:-//tapahtumainfo.fi//NONSGML Jari Sillanpää - Valo on meissä -joulukonserttikiertue//EN
METHOD:REQUEST
BEGIN:VEVENT
UID:20260420T210609-368326786-tapahtumainfo.fi
DTSTAMP:20260420T210609
DTSTART:20261205T180000Z
DTEND:20261205T020000Z
LOCATION:Kulttuurikeskus Akustiikka
SUMMARY:Jari Sillanpää - Valo on meissä -joulukonserttikiertue
DESCRIPTION:<html><head></head><body><b>Valo on meissä – Jari Sillanpään joulukonserttikiertue 2025</b><br><br>Joulun aikaan sytytämme kynttilät ja etsimme lämpöä läheisistä – ja samalla löydämme valon myös itsestämme.<b> Jari Sillanpää</b> tuo tänä vuonna joulun sanoman uuden kappaleensa myötä kiertueelle, joka kantaa nimeä Valo on meissä.<br><br>Konserteissa kuullaan Jarin rakastetuimpia joululauluja, perinteisiä säveliä sekä lauluja, jotka ovat kulkeneet hänen matkassaan vuosikymmenten ajan. Uuden kappaleen sanoma johdattaa kuulijat pysähtymään, hengähtämään ja muistamaan, että jokaisessa meissä on valo, joka kantaa läpi pimeimmänkin talven.<br><br>Lämminhenkinen konsertti yhdistää juhlan ja hiljentymisen, koskettaa sydäntä ja luo hetken, jossa valo todella löytyy meistä kaikista. <br /><br />  Visit event in our website: <a href='https://tapahtumainfo.fi/tapahtuma/2026/12/jari-sillanpaa-valo-on-meissa-joulukonserttikiertue/410210'>Tapahtumainfo.fi</a></body></html>
END:VEVENT
END:VCALENDAR
