BEGIN:VCALENDAR
VERSION:2.0
PRODID:-//tapahtumainfo.fi//NONSGML TAPANIN TAHTIIN: Perinteiset Tapanin tanssit//EN
METHOD:REQUEST
BEGIN:VEVENT
UID:20260422T132436-1239880392-tapahtumainfo.fi
DTSTAMP:20260422T132436
DTSTART:20251226T163000Z
DTEND:20251226T020000Z
LOCATION:Vanha Ylioppilastalo, Helsinki
SUMMARY:TAPANIN TAHTIIN: Perinteiset Tapanin tanssit
DESCRIPTION:<html><head></head><body><b>TAPANIN TAHTIIN – 26.12.2025 Vanhalla Ylioppilastalolla</b><br><br>Tapanin Tahtiin on uusi ja ainutlaatuinen Tapaninpäivän kokonaisuus, joka tuo yhteen perinteen ja modernin tunnelman Helsingin keskustassa. Kaksi tapahtumaa - Yksi ilta: klo 16:30–22:00 Perinteiset Tapaninpäivän tanssit, joissa tahtia lyö eri esiintyjät, ja klo 22:00–04:00 Tapanin bileet, joissa lavalle nousee artisteja sekä esiintyjiä mm. Mikko Mäkeläinen &  Myrskylyhty, Brädi ja Chorale.<br><br>Tapahtuma on K-20. Kaikki liput vaihdetaan sisäänpääsyn yhteydessä rannekkeisiin.<br>Ajankohtaiset ohjelmajulkaisut ja uutiset löydät Instagramista @tapanintahtiin sekä osoitteesta <a href="https://www.festitaattu.com">www.festitaattu.com</a>. Lippujen käyttäminen kilpailu- tai arvontapalkintoina on kiellettyä ilman järjestäjän lupaa.<br>Pidätämme oikeuden aikataulu- ja ohjelmamuutoksiin.<br><br>Tapanin Tahtiin yhdistää Tapaninpäivän parhaat puolet – ensin tanssit, sitten bileet – kaikki saman katon alla, keskellä kaupunkia <br /><br />  Visit event in our website: <a href='https://tapahtumainfo.fi/tapahtuma/2025/12/tapanin-tahtiin-perinteiset-tapanin-tanssit/410465'>Tapahtumainfo.fi</a></body></html>
END:VEVENT
END:VCALENDAR
