BEGIN:VCALENDAR
VERSION:2.0
PRODID:-//tapahtumainfo.fi//NONSGML Tattiritarit - Kadonneen sienen arvoitus//EN
METHOD:REQUEST
BEGIN:VEVENT
UID:20260420T035430-473167828-tapahtumainfo.fi
DTSTAMP:20260420T035430
DTSTART:20260519T110000Z
DTEND:20260519T020000Z
LOCATION:Porin Teatteri, Päänäyttämö
SUMMARY:Tattiritarit - Kadonneen sienen arvoitus
DESCRIPTION:<html><head></head><body> <br /><br />  Visit event in our website: <a href='https://tapahtumainfo.fi/tapahtuma/2026/05/tattiritarit-kadonneen-sienen-arvoitus/410702'>Tapahtumainfo.fi</a></body></html>
END:VEVENT
END:VCALENDAR
