BEGIN:VCALENDAR
VERSION:2.0
PRODID:-//tapahtumainfo.fi//NONSGML Flashback//EN
METHOD:REQUEST
BEGIN:VEVENT
UID:20260425T202507-1774730156-tapahtumainfo.fi
DTSTAMP:20260425T202507
DTSTART:20260307T020000Z
DTEND:20260808T020000Z
LOCATION:SeinÃ¤joen taidehalli
SUMMARY:Flashback
DESCRIPTION:<html><head></head><body>On aika juhlia! SeinÃ¤joen kaupungin kesÃ¤kuvataiteilijat ovat jo 10 vuoden ajan tuottaneet mahtavia taide-elÃ¤myksiÃ¤ yhdessÃ¤ paikallisen yleisÃ¶n kanssa. NÃ¤yttely on esillÃ¤ SeinÃ¤joen taidehallin Vintti-tilassa 7.3.â8.8.2026.<br><br>Flashback-ryhmÃ¤nÃ¤yttely esittelee uusia teoksia kuudelta SeinÃ¤joen kaupungin kesÃ¤kuvataiteilijalta vuosilta 2018â2023. SeinÃ¤joen taidehallin Vintti-nÃ¤yttelytilassa nÃ¤hdÃ¤Ã¤n teokset Eetu KevarinmÃ¤eltÃ¤ (kesÃ¤kuvataiteilija, 2018) Aeon Luxilta (kesÃ¤kuvataiteilija, 2019), Sofi HÃ¤kkiseltÃ¤ (kesÃ¤kuvataiteilija, 2020), Riikka GrÃ¶ndahlilta (kesÃ¤kuvataiteilija, 2021), Olivia Viitakankaalta (kesÃ¤kuvataiteilija, 2022) ja Baran Caginlilta (kesÃ¤kuvataiteilija, 2023). Vintti-tila tÃ¤yttyy muun muassa maalauksesta, videoinstallaatiosta ja veistotaiteesta.<br><br>SeinÃ¤joen kaupungin kesÃ¤kuvataiteilija-malli on ollut Suomessa uraauurtava. Kaupunki on palkannut vuodesta 2017 lÃ¤htien ammattitaiteilijan tai kuvataiteen opiskelijan KesÃ¤kuvataiteilijaksi. Samalla malli on laajentanut kÃ¤sitystÃ¤ siitÃ¤, millaista yhteistyÃ¶tÃ¤ kuvataiteilijan, paikallisyleisÃ¶n ja kaupungin vÃ¤lillÃ¤ voi olla. KesÃ¤kuvataiteilijat ovat tehneet taiteellista tyÃ¶tÃ¤, joka on jollain tavalla nÃ¤kynyt kaupunkilaisille tai osallistanut heitÃ¤. Samalla kesÃ¤kuvataiteilijoista ja heidÃ¤n tyÃ¶skentelystÃ¤Ã¤n on tullut rakastettu osa SeinÃ¤joen kesÃ¤Ã¤. Jokainen projekti on tuonut mukanaan SeinÃ¤joelle jotain uutta, raikasta ja odottamatonta. KesÃ¤taiteilijat ovat vuosien aikana toteuttaneet muun muassa leipÃ¤veistoksia, syvÃ¤arkistoineet videomuotokuvia ja tutkineet sattuman mahdollisuutta.<br><br>Flashback-ryhmÃ¤nÃ¤yttely on vÃ¤lÃ¤hdys menneisyydestÃ¤ ja kirkas nÃ¤kymÃ¤ tulevaisuuteen. NÃ¤yttelyn nimi Flashback viittaa takaumaan ja muistikuvaan. Taiteilijat palaavat kesÃ¤kuvataiteilijavuoden teoksiin, mutta katsovat ennen kaikkea eteenpÃ¤in.<br><br>NÃ¤yttelyn kaikille avoimia avajaisia vietetÃ¤Ã¤n AfterWork Art -tapahtuman yhteydessÃ¤ 6.3.2026.<br><br> <br><br>Taiteilijat<br>Eetu KevarinmÃ¤ki (s. 1993) oli SeinÃ¤joen kesÃ¤kuvataiteilija vuonna 2018. HÃ¤nen pÃ¤Ã¤asialliset tyÃ¶skentelyvÃ¤lineensÃ¤ ovat internet, puhelin, skanneri ja kannettava tietokone. KevarinmÃ¤ki louhii teoksiaan varten valtavia mÃ¤Ã¤riÃ¤ internetin kuvamassaa. Teokset tÃ¶rmÃ¤yttÃ¤vÃ¤t usein tulevaisuuden uhkakuvia huumorin kanssa. KevarinmÃ¤ki on opiskellut Turun taideakatemiassa kuvataiteilijaksi.<br><br>Aeon Lux (s. 1993) oli SeinÃ¤joen kesÃ¤kuvataiteilija vuonna 2019.  HÃ¤n on seinÃ¤jokinen kuvataiteilija ja taiteilija-asiantuntija. HÃ¤n tyÃ¶skentelee keraamisen kuvanveiston, maalaamisen, piirtÃ¤misen ja performanssitaiteen parissa. Luxin taiteen tekemistÃ¤ ohjaa halu tutkia todellisuutta. Metafyysiset ja esoteeriset kysymykset ovat hÃ¤nen teoksiensa lÃ¤htÃ¶kohtia. Aeon Lux on valmistunut kuvataiteilijaksi KankaanpÃ¤Ã¤n taidekoulusta vuonna 2017.<br><br>Sofi HÃ¤kkinen (s. 1990) oli SeinÃ¤joen kesÃ¤kuvataiteilija vuonna 2020. HÃ¤n keskittyy taiteellisessa tyÃ¶ssÃ¤Ã¤n kuvanveistoon ja performanssiin. HÃ¤n on taiteellinen johtaja ja ohjaaja Recover Laboratory -monitaidekollektiivissa, joka kehittÃ¤Ã¤ suomalaista monitaidetta. HÃ¤kkinen opiskelee kuvataiteen maisteriksi Kuvataideakatemian kuvanveiston maisteriohjelmassa. HÃ¤n on valmistunut taiteen maisteriksi Aalto-yliopistosta (ViCCA, 2018) ja kuvataiteilijaksi TAMK:sta (kuvataiteilija AMK, 2016).<br><br>Riikka GrÃ¶ndahl (s. 1989) oli SeinÃ¤joen kesÃ¤kuvataiteilija vuonna 2021. HÃ¤n on videon, ihmisten osallistamisen ja piirtÃ¤misen parissa tyÃ¶skentelevÃ¤ kuvataiteilija. GrÃ¶ndahl on kinnostunut toistosta, kestosta sekÃ¤ sisÃ¤isen ja ulkoisen maailman kohtaamisista. GrÃ¶ndahl on valmistunut kuvataiteen maisteriksi Valand Academysta, GÃ¶teborgin yliopistosta vuonna 2018.<br><br>Olivia Viitakangas (s. 1999) oli SeinÃ¤joen kesÃ¤kuvataiteilija vuonna 2022. HÃ¤n tyÃ¶skentelee tilanteiden, vÃ¤rin ja kliseiden parissa. HÃ¤n toteuttaa teoksia pÃ¤Ã¤osin kuvanveiston ja installaation keinoin. Viitakangas on kiinnostunut teosten esittÃ¤misestÃ¤ erilaisissa eletyissÃ¤ elinympÃ¤ristÃ¶issÃ¤. HÃ¤n opiskelee tÃ¤llÃ¤ hetkellÃ¤ kuvanveistoa Taideyliopiston Kuvataideakatemiassa ja valmistui Lahden Muotoiluinstituutin valokuvauksen koulutusohjelmasta vuonna 2023.<br><br>Baran Caginli (s. 1990, Istanbul) oli SeinÃ¤joen kesÃ¤kuvataiteilija vuonna 2023. HÃ¤n kÃ¤sittelee teoksissaan laajoja kansainvÃ¤lisiÃ¤ ja maailmanlaajuisia aiheita, jotka koskevat valtiollisia valtasuhteita ja konflikteja, identiteettiÃ¤, syrjintÃ¤Ã¤ ja sortoa. Caginli kÃ¤yttÃ¤Ã¤ tyÃ¶skentelyssÃ¤Ã¤n valokuvaa, veistoa, installaatioita ja arkistomateriaalia. HÃ¤n kÃ¤yttÃ¤Ã¤ usein kÃ¤sintehtyjÃ¤ osia ja tekniikoita. Caginli on valmistunut kuvataiteen maisteriksi Kuvataideakatemian kuvanveiston maisteriohjelmassa. <br /><br />  Visit event in our website: <a href='https://tapahtumainfo.fi/tapahtuma/2026/03/flashback/410999'>Tapahtumainfo.fi</a></body></html>
END:VEVENT
END:VCALENDAR
