BEGIN:VCALENDAR
VERSION:2.0
PRODID:-//tapahtumainfo.fi//NONSGML Jessica Segall: Oddkin//EN
METHOD:REQUEST
BEGIN:VEVENT
UID:20260425T142626-2126073780-tapahtumainfo.fi
DTSTAMP:20260425T142626
DTSTART:20260124T020000Z
DTEND:20260523T020000Z
LOCATION:SeinÃ¤joen taidehalli
SUMMARY:Jessica Segall: Oddkin
DESCRIPTION:<html><head></head><body>Jessica Segallin yksityisnÃ¤yttely Oddkin esittelee yhdysvaltalaiselta kuvataiteilijalta monikanavaisia videoteoksia ja installaatioita. NÃ¤yttely on avoinna 24.1.2026 â 23.5.2026 SeinÃ¤joen taidehallin Halli-nÃ¤yttelytilassa.<br><br>Uhanalainen luonto voi olla ihmisille vihamielinen. Haavoittuvat ympÃ¤ristÃ¶t nÃ¤yttÃ¤ytyvÃ¤t Jessica Segallin teoksissa yhtÃ¤ aikaa houkuttelevina, herkkinÃ¤ ja vaarallisina. Segall tuo teoksissaan nÃ¤kyvÃ¤ksi ihmisten luontoon kohdistuviin valtasuhteisiin liittyviÃ¤ fantasioita ja ristiriitoja.<br><br>SeinÃ¤joen taidehallin nÃ¤yttelyn teokset sijoittuvat avarille Ã¶ljynporauskentille ja intiimeille takapihoille. Teoksessa (un)common intimacy (2018) Segall ui yhdessÃ¤ yksityisreservaattien villielÃ¤inten kanssa. Human Energy (2023) on monikanavainen videoinstallaatio, jossa Segall kiipeÃ¤Ã¤ valtavan Ã¶ljypumpun pÃ¤Ã¤lle. NÃ¤yttelyn visuaalisesti hÃ¤tkÃ¤hdyttÃ¤vÃ¤t teokset tulevat iholle ja tuntuvat kehossa.<br><br>Jessica Segall tyÃ¶skentelee laaja-alaisesti tutkijoiden, aktivistien ja ei-inhimillisten toimijoiden kanssa. HÃ¤nen ajatteluaan ohjaa poikkitieteellinen queer-ekologia. Queer-ekologia on teoria ja tieteenala, joka tutkii sukupuolen ja luonnon moninaisuutta. Segall esiintyy teoksissa yhdessÃ¤ elÃ¤inten ja muiden ei-inhimillisten toimijoiden kanssa. NÃ¤yttelyn nimi Oddkin viittaa yhdysvaltalaisen teoreetikon Donna Harawayn kehittÃ¤mÃ¤Ã¤n kÃ¤sitteeseen. Haraway ehdottaa, ettÃ¤ hoiva ja kumppanuus eivÃ¤t vaadi geneettistÃ¤ perheyhteyttÃ¤. Lajirajat ylittÃ¤viÃ¤, kummia liittolaisuuksia voi syntyÃ¤ yllÃ¤ttÃ¤en.<br><br>NÃ¤yttelyn kaikille avoimia avajaisia vietetÃ¤Ã¤n Kalevan Navetan talvipÃ¤ivÃ¤n yhteydessÃ¤ 23.1.2026.<br><br>Jessica Segallin (s. 1978 Illinois) teoksia on esitetty kansainvÃ¤lisesti arvostetuissa taidenÃ¤yttelytiloissa kuten The Fries Museumissa Alankomaissa, The National Gallery of Indonesiassa, Coreana Museum of Artissa EtelÃ¤-Koreassa ja The Queens Museum of Artissa New Yorkissa. <br /><br />  Visit event in our website: <a href='https://tapahtumainfo.fi/tapahtuma/2026/01/jessica-segall-oddkin/411007'>Tapahtumainfo.fi</a></body></html>
END:VEVENT
END:VCALENDAR
