BEGIN:VCALENDAR
VERSION:2.0
PRODID:-//tapahtumainfo.fi//NONSGML K40-disco: DJ:t Sami & Antti//EN
METHOD:REQUEST
BEGIN:VEVENT
UID:20260422T114410-612217230-tapahtumainfo.fi
DTSTAMP:20260422T114410
DTSTART:20260405T020000Z
DTEND:20260405T020000Z
LOCATION:Tavara-asema
SUMMARY:K40-disco: DJ:t Sami & Antti
DESCRIPTION:<html><head></head><body><h3>Tavara-aseman ilmiöksi noussut K40-disco tarjoaa yökerhotoimintaa aikuiseen makuun!</h3><br /><br /><p><strong>Eteispalvelu sisältyy lipun hintaan.</strong></p><br /><p><strong>Lipunmyynti jatkuu Tiketin verkkokaupassa ovien auettua, mikäli lippuja on jäljellä.</strong></p><br /><p><strong><strong>****<br></strong></strong></p><br /><p><strong><strong>Tutustu Tavara-aseman <a href="https://tavara-asema.fi/info/" target="_blank">turvallisemman tilan periaatteisiin</a>.</strong></strong><strong><br></strong></p><br /><p><strong><strong><strong>Asiakkaana olevan henkilön avustaja pääsee tapahtumaan asiakkaan kanssa samalla lipulla.</strong></strong></strong></p><br /><p><strong><strong><a href="https://tavara-asema.fi/info/esteettomyys-ja-saavutettavuus/" target="_blank">Lue lisätietoa esteettömyydestä!</a></strong></strong><strong><br></strong></p> <br /><br />  Visit event in our website: <a href='https://tapahtumainfo.fi/tapahtuma/2026/04/k40-disco-dj-t-sami-antti/411025'>Tapahtumainfo.fi</a></body></html>
END:VEVENT
END:VCALENDAR
