BEGIN:VCALENDAR
VERSION:2.0
PRODID:-//tapahtumainfo.fi//NONSGML Drink Floyd Plays Pink Floyd//EN
METHOD:REQUEST
BEGIN:VEVENT
UID:20260419T161919-331689298-tapahtumainfo.fi
DTSTAMP:20260419T161919
DTSTART:20260218T190000Z
DTEND:20260218T020000Z
LOCATION:Aleksanterin teatteri
SUMMARY:Drink Floyd Plays Pink Floyd
DESCRIPTION:<html><head></head><body>Drink Floyd on Pink Floyd -tribuuttibändi, joka esittää Dark Side of the Moon, Wish You Were Here ja The Wall -albumeiden parhaita biisejä. Bändi soittaa originaaleja kunnioittaen, mutta ei pelkää jammailua tai pieniä arri-muutoksia setissään. Drink Floyd koostuu kovista musiikkiammattilaisista.<br><br><b>Kokoonpano:</b><br><b>Bryn Jones</b> (laulu, kitara)<br><b>Ben Granfelt </b>(kitara, laulu)<br><b>Jukka Jylli</b> (basso, laulu)<br><b>Altti Uhlenius</b> (koskettimet, akustinen kitara, laulu)<br><b>Niklas Lindholm</b> (rummut, laulu) <br /><br />  Visit event in our website: <a href='https://tapahtumainfo.fi/tapahtuma/2026/02/drink-floyd-plays-pink-floyd/411409'>Tapahtumainfo.fi</a></body></html>
END:VEVENT
END:VCALENDAR
