BEGIN:VCALENDAR
VERSION:2.0
PRODID:-//tapahtumainfo.fi//NONSGML Savoy: Lounaskonsertti: UMO Helsinki Ensemble – Latin Jazz//EN
METHOD:REQUEST
BEGIN:VEVENT
UID:20260426T021450-1709031170-tapahtumainfo.fi
DTSTAMP:20260426T021450
DTSTART:20260512T120000Z
DTEND:20260512T020000Z
LOCATION:Savoy-teatteri
SUMMARY:Savoy: Lounaskonsertti: UMO Helsinki Ensemble – Latin Jazz
DESCRIPTION:<html><head></head><body><p>  <b>Lounaskonsertti: UMO Helsinki Ensemble – Latin Jazz </b><br><br></p><p>  Jazzia lounaaksi – kyllä kiitos! Savoy-teatterin ja UMO Helsinki Jazz   Orchestran toivotut lounaskonsertit jatkuvat taas kevätkaudella   2026! Tämän konsertin ilmaisliput ovat varattavissa ke 22.4. klo 15   alkaen Savoy-teatterista ja Lippu.fi:stä, lue tarkemmat ohjeet alempaa.</p><p>  </p><p>  Toukokuun lounaskonsertissa jazzin sielukkaat melodiat ja improvisaatio   lyövät kättä Latinalaisen Amerikan elämäniloisten rytmien kanssa! Anna   rytmin viedä New Yorkin savuisille jazzklubeille ja Kuuban ja Brasilian   lämpöön.</p><p>  </p><p>  Latin jazzin juuret ulottuvat 1900-luvun alkuun, jolloin kuubalaiset   siirtolaiset toivat Yhdysvaltoihin synkopoituja rytmejään, jotka   vaikuttivat ajan pioneerisäveltäjiin. Genren varsinainen nousu tapahtui   1940-luvulla New Yorkissa, kun kuubalaiset muusikot sulauttivat jazzin   kuubalaisiin tanssirytmeihin, kuten mamboon ja rumbaan. Myöhemmin   1950–1960-luvuilla brasilialaiset vaikutteet rikastuttivat genren   pehmeämmillä sambarytmeillä, ja näin syntyi bossa nova. Latin jazz on   musiikillista dialogia eri mannerten välillä – hyväntuulista, energistä   ja tanssittavaa!</p><p>  </p><p>  UMOn riveistä koottua pienempää kokoonpanoa <b>UMO   Helsinki Ensembleä </b>luotsaa lead-pasunisti <b>Kasperi Sarikoski</b>,   joka on myös suunnitellut konsertin sisällön. Konsertti on osa UMOn   50-vuotisjuhlakauden ohjelmistoa.</p><p>  </p><p>  HUOM! Vapaa pääsy, mutta lippu tarvitaan. Hankithan lipun ennakkoon ke   22.4. klo 15 alkaen Savoy-teatterin lippuluukulta (0 €) tai   Lippu.fi-verkkokaupasta (0 €). Lippu.fi:n myyntipisteissä kulut ovat 3 €   / tilaus.</p>Max. 2 lippua / varaus.<br /><p>  Isommat ryhmävaraukset suoraan Savoysta. Ennakkolipulla sisään klo 11:50   asti. Tämän jälkeen mahdollisesti tyhjäksi jääneet paikat täytetään   liputtomilla asiakkailla. Kannattaa tulla ajoissa paikalle, koska saliin   ei pääse myöhässä. Konsertin kesto 1 h.</p><p>  </p><p>  Tuotanto: Savoy-teatteri & UMO Helsinki Jazz Orchestra</p><p>  </p><p>  Kuva: Olli Nurmi</p><p>  </p><p>  <b>UMO Helsinki Jazz Orchestra – The Greatest Feats since 1975. </b><i>Jo   50 vuotta jazzin urotekoja ja taidonnäytteitä! 50-vuotisjuhlakauttaan   kesästä 2025 kevääseen 2026 viettävä UMO Helsinki Jazz Orchestra on   ollut vuosikymmenten ajan suomalaisen jazzin huipulla. Vuosien saatossa   Yrjö- ja Emma-palkittu ja Grammy-ehdokkaanakin ollut UMO on levyttänyt   yli 60 albumia ja esiintynyt niin kansainvälisten jazzin kärkinimien   kuin kotimaisten artistien kanssa. Yksi on ja pysyy: UMOn ydin on   uudessa musiikissa. Juhlakaudella muistellaan menneitä ja juhlistetaan   saavutuksia, ja pidetään katse tiukasti tulevaisuudessa. Juhli yhdessä   UMOn kanssa!</i><a href=" www.umohelsinki.fi" cr="true">   www.umohelsinki.fi</a></p><p>  </p><p>  Savoy-teatterin asiakkaille majoitukset Hotel Havenissa -30 %   alennuksella päivän joustavasta hinnasta.<br>ETUKOODI: SAVOY<br><a href="https://be.synxis.com/?adult=2&arrive=2025-06-27&chain=10237&child=0&currency=EUR&depart=2025-06-28&hotel=35617&level=hotel&locale=fi-FI&productcurrency=EUR&promo=SAVOY&rooms=1&src=hotelbe " cr="true">Varaa   majoitus tästä</a></p> <br /><br />  Visit event in our website: <a href='https://tapahtumainfo.fi/tapahtuma/2026/05/savoy-lounaskonsertti-umo-helsinki-ensemble--latin-jazz/411811'>Tapahtumainfo.fi</a></body></html>
END:VEVENT
END:VCALENDAR
