BEGIN:VCALENDAR
VERSION:2.0
PRODID:-//tapahtumainfo.fi//NONSGML Kaikki äitini, kaikki tyttäreni//EN
METHOD:REQUEST
BEGIN:VEVENT
UID:20260419T152708-1064504422-tapahtumainfo.fi
DTSTAMP:20260419T152708
DTSTART:20260905T190000Z
DTEND:20260905T020000Z
LOCATION:Kangasala-talo
SUMMARY:Kaikki äitini, kaikki tyttäreni
DESCRIPTION:<html><head></head><body><b>Kaikki äitini, kaikki tyttäreni palaa Kangasala-taloon</b><br><br><i>Kaikki äitini, kaikki tyttäreni</i> hurmasi Kangasala-talon loppuunmyydyn katsomon kaksi kertaa<br>helmikuussa 2025. Yleisön pyynnöstä esitys nähdään Kangasala-talossa uudelleen.<br><br>Yli 190 000 katsojaa kerännyt, yleisön rakastama <i>Kaikki äitini, kaikki tyttäreni</i> on Kodin Kuvalehden<br>lukijoiden kokemuksiin pohjautuva hauska, lämmin sekä viiltävän pirullinen esitys äitien ja tyttärien<br>välisistä suhteista. Esitys on ihastuttanut yleisöään jo yli 10 vuotta <b>Miitta Sorvalin</b>, <b>Sanna Stellanin</b><br>ja <b>Pirjo Heikkilän</b> johdolla, joiden hahmot nivoutuvat yhteen hervottoman hauskaksi tarinaksi.<br><br><b>Äitien ja tyttärien tarina, joka naurattaa ja koskettaa</b><br><br>Vaikka äitiyden arki on täynnä hulvattomia sattumia ja äkkipikaisia yhteenottoja, niin tämä esitys<br>kuvaa kauniisti myös perhesiteiden vahvuutta sekä niiden tärkeyttä. Tästä tarinasta löydät<br>tilanteita, joita olet kokenut ja tulet vielä kokemaan. Saavu seuraamaan mitä tapahtuu, kun<br>erilaiset äidit ja tyttäret ottavat valokeilan omakseen.<br><br>Kantaesitys 26.9.2013<br><br>Näyttämöllä:<br><b>Miitta Sorvali<br>Sanna Stellan<br>Pirjo Heikkilä</b><br><br>Käsikirjoitus ja dramatisointi Kodin Kuvalehden lukijatekstien pohjalta: Sanna Stellan, <b>Anna<br>Krogerus</b> ja työryhmä<br><br>Ohjaus: <b>Petteri Summanen</b><br><br>Esityksen kesto on n. 2 t 30 min, sisältäen väliajan.<br><br>Tuotanto: Kangasala-talo ja Suomen Komediateatteri<br><br><b>Lisäpalvelut</b><br>Naulakkopalvelumaksu 2,50 €<br><br><b>Anniskelukatsomo</b><br>Esityksessä on K18-anniskelualue katsomon yläosassa, riveillä 8-11.<br>Anniskelualueella sijaitsevalle istumapaikalle voi viedä ennen esitystä ja mahdollisen väliajan aikana ostamansa juoman.<br>Anniskelukatsomo on kielletty alle 18-vuotiailta.<br><br><b>Ravintolan palvelut</b><br>Tule virittäytymään illan tunnelmaan jo ennakkoon! Ravintolapalvelut avautuvat tuntia ennen konserttia. <a href="https://kangasala-talo.fi/ravintola/" target="_blank">Tutustu Kulttuuriravintola Jalmarin palveluihin ›</a><br><br><b>Kimmo Pyykkö -taidemuseo</b><br>Kangasala-talossa sijaitseva taidemuseo on avoinna konsertin alkuun saakka.<br><a href="https://kimmopyykkotaidemuseo.fi/" target="_blank">Tutustu näyttelyihin ›</a><br><br><b>Saapuminen</b><br>Kangasala-talo sijaitsee hyvien kulkuyhteyksien varrella ja meille saavut helposti myös bussilla, pyörällä tai kävellen! Lue lisää saapumisesta ja pysäköinnistä <a href="https://kangasala-talo.fi/tule-meille/saapuminen/" target="_blank">täältä ›</a> <br /><br />  Visit event in our website: <a href='https://tapahtumainfo.fi/tapahtuma/2026/09/kaikki-aitini-kaikki-tyttareni/411815'>Tapahtumainfo.fi</a></body></html>
END:VEVENT
END:VCALENDAR
