BEGIN:VCALENDAR
VERSION:2.0
PRODID:-//tapahtumainfo.fi//NONSGML SUOMIPOP FESTIVAALI OULU - 3 PÄIVÄÄ K-18//EN
METHOD:REQUEST
BEGIN:VEVENT
UID:20260423T035804-981408286-tapahtumainfo.fi
DTSTAMP:20260423T035804
DTSTART:20260709T220000Z
DTEND:20260709T020000Z
LOCATION:Kuusisaari
SUMMARY:SUOMIPOP FESTIVAALI OULU - 3 PÄIVÄÄ K-18
DESCRIPTION:<html><head></head><body><p class="MsoNormal">  <b>Kaikki Suomipop Festivaalien esiintyjät julki - huippuvahvistuksia   Jyväskylään ja Ouluun</b></p><p class="MsoNormal">  <br>  </p><p class="MsoNormal">  <b>Suomipop Festivaalit 2026</b> julkaisevat odotetusti koko tulevan   kesän ohjelmiston sekä Oulun Kuusisaaressa että Jyväskylän   Lutakonaukiolla juhlittaville sisarfestareille. Radio Suomipop   Festivaalit juhlitaan kesälomasesongin parhaaseen aikaan torstaista   lauantaihin 9.-11.7.2026. Tapahtumiin julkaistaan nyt merkittäviä   täydennyksiä kattaukseen, ja samalla myyntiin vapautetaan keväthintaiset   liput sekä paljastetaan päiväkohtaiset esiintyjälistat.</p><p class="MsoNormal">  <br>  </p><p class="MsoNormal">  Oulun kattausta täydentävät Suomen suurin livebändi<b>   Haloo Helsinki!</b>, paljon toivottu pop-tähti <b>Mirella</b>,   energisen livekeikan tarjoava<b> BESS</b>, lyriikallinen nero<b> Samuli   Putro</b> sekä rockjyrä<b> Uniklubi</b>. Tämän lisäksi livenä   Kuusisaaressa nähdään <b>Teflon Brothers, VIIVI, Stig,   Olli Halonen</b> ja <b>Irina</b>.<br><br></p><p class="MsoNormal">  <i>”Suomalaisuuden soundtrack raikaa livenä heinäkuussa valtavan   esiintyjäkattauksen voimin Kuusisaaressa, meillä esiintyvät kaikki   kauden kovimmat ja kiinnostavimmat kotimaiset nimet. Oulun Suomipop   Festarin kiinnostus on ollut todella vahvaa ja lippukauppa on käynyt   todella vilkkaasti jo tässä kohtaa kautta”</i>,   paljastaa Oulun festivaalin tuotantopäällikkö Jenna Fyhr.</p><p class="MsoNormal">  </p><p class="MsoNormal">  <b>Oulussa nähdään kaikkien aikojen kovin päiväkohtainen kattaus</b></p><p class="MsoNormal">  <br>  </p><p class="MsoNormal">  Oulun torstai käynnistyy näyttävästi, kun <b>Haloo   Helsinki!</b> ja<b> VESALA</b> nähdään avauspäivän pääesiintyjinä.   Päivän tunnelmasta vastaavat myös <b>Arttu Wiskari</b>,<b>   Teflon Brothers</b>,<b> VIIVI </b>ja <b>Nelli Matula</b>, jotka tuovat   lavalle popin, hiphopin ja uuden aallon kotimaisen musiikin kirkkaimpia   nimiä.</p><p class="MsoNormal">  <br>  </p><p class="MsoNormal">  Perjantai tarjoaa yhdistelmän nostalgiaa ja tämän hetken kuumimpia   artisteja, kun <b>Nylon Beat</b> palaa odotetusti lavalle. Heidän   rinnallaan nähdään paljon toivottu<b> KUUMAA</b>, jonka   keikka on seudun ainoa kesäfestarikeikka sekä<b> BESS</b>, <b>Egotrippi,   Stig, Samuli Putro</b> ja<b> Komiat</b>, jotka takaavat tanssittavan ja   vauhdikkaan festarikokemuksen.</p><p class="MsoNormal">  <br>  </p><p class="MsoNormal">  Lauantaina Oulussa koetaan festivaalien näyttävä päätöspäivä, jonka   kruunaavat muun muassa Oulun yleisölle lopulliset jäähyväiset jättävä <b>Eppu   Normaali</b>, kansainväliseen suosioon noussut <b>Käärijä</b>,   sekä yleisön suosikit <b>Mirella, Ellinoora, Uniklubi, Olli   Halonen, Suvi Teräsniska</b> ja <b>Irina</b>. Päätöslauantai kokoaa   yhteen kesän suurimmat kotimaiset tähdet ja huipentaa festivaalin   vaikuttavalla kokonaisuudella.</p><p class="MsoNormal">  <br>  <b>SUOMIPOP FESTIIVAALI OULU</b><br>9.-11.7.2026<br>Oulu, Kuusisaari<br>K-18<br><br></p><p class="MsoNormal">  <b>Esiintyjät:</b><br></p><p class="MsoNormal">  <b><br /></b>    </p><p class="MsoNormal">  <b>Torstai 9.7.</b><br></p><p class="MsoNormal">  Haloo Helsinki!, VESALA, Arttu Wiskari, Teflon Brothers, VIIVI, Nelli   Matula<br><br></p><p class="MsoNormal">  <b>Perjantai 10.7.</b><br></p><p class="MsoNormal">  Nylon Beat, KUUMAA, BESS, Egotrippi, STIG, Samuli Putro, Komiat<br><br></p><p class="MsoNormal">  <b>Lauantai 11.7.</b><br></p><p class="MsoNormal">  Eppu Normaali, Käärijä, Mirella, Ellinoora, Uniklubi, Suvi Teräsniska,   Olli Halonen, Irina<br /><br><br>Muutokset ohjelmaan mahdollisia. Tarkista aina ajantasaiset tiedot   festivaalin omilta nettisivuilta.<br></p><p class="MsoNormal">  <br>  Online:<br><a href="https://www.suomipopfestivaali.fi" target="_blank">www.suomipopfestivaali.fi</a><br><a href="https://www.facebook.com/suomipopfestivaali" target="_blank">www.facebook.com/suomipopfestivaali</a><br><a href="https://www.facebook.com/suomipopfestivaalioulu" target="_blank">www.facebook.com/suomipopfestivaalioulu</a><br>@suomipopfestivaali<br>#suomipopfestivaali   #suomipopoulu<br></p><p class="MsoNormal">  <br>  Suomipop Festivaalin ikäraja on 18 vuotta.</p> <br /><br />  Visit event in our website: <a href='https://tapahtumainfo.fi/tapahtuma/2026/07/suomipop-festivaali-oulu-3-paivaa-k-18/411966'>Tapahtumainfo.fi</a></body></html>
END:VEVENT
END:VCALENDAR
