BEGIN:VCALENDAR
VERSION:2.0
PRODID:-//tapahtumainfo.fi//NONSGML AhlstrÃ¶min suvun vahvat naiset -yleisÃ¶kierros//EN
METHOD:REQUEST
BEGIN:VEVENT
UID:20260425T001405-396804294-tapahtumainfo.fi
DTSTAMP:20260425T001405
DTSTART:20260509T020000Z
DTEND:20260509T020000Z
LOCATION:AhlstrÃ¶m Ruukki
SUMMARY:AhlstrÃ¶min suvun vahvat naiset -yleisÃ¶kierros
DESCRIPTION:<html><head></head><body>AhlstrÃ¶min suvun naisten elÃ¤mÃ¤ntarinat kertovat vahvoista teollisuusjohtajista, kulttuurivaikuttajista, taiteilijoista, kirjailijoista sekÃ¤ lapsistaan huolehtivista Ã¤ideistÃ¤ maamme historian eri vaiheissa. NÃ¤mÃ¤ rohkeat naiset ovat perustaneet sairaalan, kouluja, museoita, sÃ¤Ã¤tiÃ¶itÃ¤ sekÃ¤ kansallisylpeytemme Artekin.<br> <br>Opastetun kierroksen kesto on noin 60 minuuttia.<br>NÃ¤yttelytila on esteetÃ¶n ja kÃ¤ytÃ¶ssÃ¤ on hissi. <br><br>NÃ¤yttelytilassa osoitteessa Makkarakoskentie 34 B sijaitsevat lipunmyynti, museokauppa ja WC-tilat. Noormarkun Klubilla palvellaan lounas-, Ã  la carte- ja majoitusasiakkaita osoitteessa Laviantie 14. Katso Noormarkun Klubin aukioloajat osoitteessa www.ahlstrominruukki.fi.<br><br>Suosittelemme varaamaan yleisÃ¶kierroksille paikan etukÃ¤teen verkkokaupasta www.ahlstrominruukki.fi.  NÃ¤in varaat paikan yleisÃ¶kierrokselle Museokortilla:<br>Siirry osoitteeseen www.ahlstrominruukki.fi/yleisokierrokset ja valitse haluamasi kierros. Klikkaa &quot;Varaa paikka yleisÃ¶kierrokselle&quot; ja avaa verkkokauppa. Valitse varaustyypiksi yleisÃ¶kierrokset ja haluamasi pÃ¤ivÃ¤. Kirjoita kampanjakoodiksi MUSEOKORTTI ja klikkaa &quot;Hae&quot;. Valitse Museokortti-merkinnÃ¤llÃ¤ oleva kierros ja viimeistele varaus. <br /><br />  Visit event in our website: <a href='https://tapahtumainfo.fi/tapahtuma/2026/05/ahlstr-min-suvun-vahvat-naiset-yleis-kierros/412451'>Tapahtumainfo.fi</a></body></html>
END:VEVENT
END:VCALENDAR
