BEGIN:VCALENDAR
VERSION:2.0
PRODID:-//tapahtumainfo.fi//NONSGML Jali! Jalmari Ruokokoski 140 vuotta//EN
METHOD:REQUEST
BEGIN:VEVENT
UID:20260425T145728-234235994-tapahtumainfo.fi
DTSTAMP:20260425T145728
DTSTART:20260208T020000Z
DTEND:20260524T020000Z
LOCATION:Museokeskus Taika
SUMMARY:Jali! Jalmari Ruokokoski 140 vuotta
DESCRIPTION:<html><head></head><body>Taiteilijan 140-vuotisjuhlavuoden kunniaksi HyvinkÃ¤Ã¤n museokeskus Taikan isossa nÃ¤yttelysalissa nÃ¤hdÃ¤Ã¤n vÃ¤rikÃ¤s nÃ¤yttely, jossa on mukana runsaasti museolainoja kokoelmista ympÃ¤ri Suomen. Monet Ruokokosken parhaimmista tÃ¶istÃ¤ pÃ¤Ã¤sevÃ¤t nyt ensi kerran esille samaan nÃ¤yttelyyn.<br><br>NÃ¤yttely nostaa esiin myÃ¶s taiteilijan persoonaa ja 1900-luvun ensimmÃ¤isten vuosikymmenten taiteilijaelÃ¤mÃ¤Ã¤. Ruokokoski oli ihmisenÃ¤ mielenkiintoinen: HelsingissÃ¤ taiteilijakahvila Brondalla pÃ¤ivittÃ¤in viihtynyt kulttuuripiirien boheemi keskushahmo ja rahansa kapakoihin, elokuviin sekÃ¤ sirkukseen hummannut huumoriveikko. Samalla hÃ¤n oli sujuvasti maailmalla liikkunut kÃ¤sityÃ¶lÃ¤sperheen vesa. Ruokokoski edustikin ensimmÃ¤istÃ¤ taiteilijaksi noussutta tyÃ¶lÃ¤istaustaista sukupolvea aikana, jona Suomen taidekenttÃ¤ oli murroksessa. HyvinkÃ¤Ã¤llÃ¤ Ruokokoski muistetaan erityisesti Tyko Sallisen kanssa paikkakunnalle rakennuttamistaan Humala- ja Krapula-taiteilijataloista. <br><br>Maalarina Ruokokoski oli luonnonlahjakkuus, jonka taidot tulevat parhaiten esiin lukuisissa hÃ¤nen maalaamissaan muotokuvissa. Sen lisÃ¤ksi taiteilijalta on sÃ¤ilynyt harvinaisen paljon omakuvia, jotka kattavat koko hÃ¤nen uransa ja luovat mielenkiintoisen nÃ¤kymÃ¤n taiteilijan persoonaan ja maalaustyyliin eri elÃ¤mÃ¤nvaiheissa. Ihmisten maalaamisen lisÃ¤ksi Ruokokoski oli erityisen kiinnostunut vÃ¤ristÃ¤, mikÃ¤ nÃ¤kyy monien hÃ¤nen teostensa heleÃ¤n moderneissa sÃ¤vyissÃ¤.<br><br>NÃ¤yttelyyn jÃ¤rjestetÃ¤Ã¤n kevÃ¤Ã¤n aikana yleisÃ¶opastuksia ja monipuolisesti muuta ohjelmaa. Aiheeseen on mahdollista tutustua myÃ¶s Teatteri Mansikkapaikan toteuttamalla draamaopastuksella Lennokas, vÃ¤rikÃ¤s, tuottelias â Jalmari âJaliâ Ruokokosken elÃ¤mÃ¤ ja teokset. <br /><br />  Visit event in our website: <a href='https://tapahtumainfo.fi/tapahtuma/2026/02/jali-jalmari-ruokokoski-140-vuotta/412465'>Tapahtumainfo.fi</a></body></html>
END:VEVENT
END:VCALENDAR
