BEGIN:VCALENDAR
VERSION:2.0
PRODID:-//tapahtumainfo.fi//NONSGML Kudottua ja painettua//EN
METHOD:REQUEST
BEGIN:VEVENT
UID:20260425T225947-1369125713-tapahtumainfo.fi
DTSTAMP:20260425T225947
DTSTART:20251102T020000Z
DTEND:20260503T020000Z
LOCATION:YrjÃ¶ Liipolan taidemuseo
SUMMARY:Kudottua ja painettua
DESCRIPTION:<html><head></head><body>Somerolainen tekstiilisuunnittelija Orvokki Leino on koonnut nÃ¤yttelyn vuosien 1975 - 2025 aikana tekemistÃ¤Ã¤n tekstiilikÃ¤sitÃ¶istÃ¤ sekÃ¤ kÃ¤sinpainetuista korteista.<br>EsillÃ¤ on myÃ¶s muutama valtakunnallisten kilpailuiden voittotyÃ¶. <br /><br />  Visit event in our website: <a href='https://tapahtumainfo.fi/tapahtuma/2025/11/kudottua-ja-painettua/412650'>Tapahtumainfo.fi</a></body></html>
END:VEVENT
END:VCALENDAR
