BEGIN:VCALENDAR
VERSION:2.0
PRODID:-//tapahtumainfo.fi//NONSGML Mielensäpahoittaja -mussikaali (PN)//EN
METHOD:REQUEST
BEGIN:VEVENT
UID:20260423T081702-968252879-tapahtumainfo.fi
DTSTAMP:20260423T081702
DTSTART:20260427T120000Z
DTEND:20260427T020000Z
LOCATION:Varkauden Teatteri
SUMMARY:Mielensäpahoittaja -mussikaali (PN)
DESCRIPTION:<html><head></head><body> <br /><br />  Visit event in our website: <a href='https://tapahtumainfo.fi/tapahtuma/2026/04/mielensapahoittaja-mussikaali-pn/412799'>Tapahtumainfo.fi</a></body></html>
END:VEVENT
END:VCALENDAR
