BEGIN:VCALENDAR
VERSION:2.0
PRODID:-//tapahtumainfo.fi//NONSGML Mokoma - Kuoleman laulukunnaat 20 vuotta//EN
METHOD:REQUEST
BEGIN:VEVENT
UID:20260422T220425-1301338971-tapahtumainfo.fi
DTSTAMP:20260422T220425
DTSTART:20260430T200000Z
DTEND:20260430T020000Z
LOCATION:Tullisali
SUMMARY:Mokoma - Kuoleman laulukunnaat 20 vuotta
DESCRIPTION:<html><head></head><body> <br /><br />  Visit event in our website: <a href='https://tapahtumainfo.fi/tapahtuma/2026/04/mokoma-kuoleman-laulukunnaat-20-vuotta/412802'>Tapahtumainfo.fi</a></body></html>
END:VEVENT
END:VCALENDAR
