BEGIN:VCALENDAR
VERSION:2.0
PRODID:-//tapahtumainfo.fi//NONSGML LEPAKKO J. Straussin operetti//EN
METHOD:REQUEST
BEGIN:VEVENT
UID:20260422T220416-1821864872-tapahtumainfo.fi
DTSTAMP:20260422T220416
DTSTART:20260430T190000Z
DTEND:20260430T020000Z
LOCATION:ESTONIA TEATER
SUMMARY:LEPAKKO J. Straussin operetti
DESCRIPTION:<html><head></head><body> <br /><br />  Visit event in our website: <a href='https://tapahtumainfo.fi/tapahtuma/2026/04/lepakko-j-straussin-operetti/412804'>Tapahtumainfo.fi</a></body></html>
END:VEVENT
END:VCALENDAR
