BEGIN:VCALENDAR
VERSION:2.0
PRODID:-//tapahtumainfo.fi//NONSGML Semmarit - Vappushow//EN
METHOD:REQUEST
BEGIN:VEVENT
UID:20260422T220257-380977581-tapahtumainfo.fi
DTSTAMP:20260422T220257
DTSTART:20260430T190000Z
DTEND:20260430T020000Z
LOCATION:Turun Kaupunginteatteri, Suuri näyttämö
SUMMARY:Semmarit - Vappushow
DESCRIPTION:<html><head></head><body> <br /><br />  Visit event in our website: <a href='https://tapahtumainfo.fi/tapahtuma/2026/04/semmarit-vappushow/414083'>Tapahtumainfo.fi</a></body></html>
END:VEVENT
END:VCALENDAR
