BEGIN:VCALENDAR
VERSION:2.0
PRODID:-//tapahtumainfo.fi//NONSGML HJK Kansallinen Liiga 2026, Mobiilikortti//EN
METHOD:REQUEST
BEGIN:VEVENT
UID:20260425T230100-759884770-tapahtumainfo.fi
DTSTAMP:20260425T230100
DTSTART:20261130T001700Z
DTEND:20261130T020000Z
LOCATION:Bolt Arena
SUMMARY:HJK Kansallinen Liiga 2026, Mobiilikortti
DESCRIPTION:<html><head></head><body> <br /><br />  Visit event in our website: <a href='https://tapahtumainfo.fi/tapahtuma/2026/11/hjk-kansallinen-liiga-2026-mobiilikortti/414707'>Tapahtumainfo.fi</a></body></html>
END:VEVENT
END:VCALENDAR
