BEGIN:VCALENDAR
VERSION:2.0
PRODID:-//tapahtumainfo.fi//NONSGML Saako purra? ENSI-ILTA//EN
METHOD:REQUEST
BEGIN:VEVENT
UID:20260423T114058-2072038159-tapahtumainfo.fi
DTSTAMP:20260423T114058
DTSTART:20260418T190000Z
DTEND:20260418T020000Z
LOCATION:Sopukka, Turun kaupunginteatteri
SUMMARY:Saako purra? ENSI-ILTA
DESCRIPTION:<html><head></head><body> <br /><br />  Visit event in our website: <a href='https://tapahtumainfo.fi/tapahtuma/2026/04/saako-purra-ensi-ilta/414770'>Tapahtumainfo.fi</a></body></html>
END:VEVENT
END:VCALENDAR
