BEGIN:VCALENDAR
VERSION:2.0
PRODID:-//tapahtumainfo.fi//NONSGML Minä, Elisabet//EN
METHOD:REQUEST
BEGIN:VEVENT
UID:20260421T153154-1851033473-tapahtumainfo.fi
DTSTAMP:20260421T153154
DTSTART:20260415T183000Z
DTEND:20260415T020000Z
LOCATION:Silkkisali
SUMMARY:Minä, Elisabet
DESCRIPTION:<html><head></head><body>Teatteri Vantaa Silkkisali, <br />Tikkurilantie 44 / Silkkitehtaantie 5, 01300 Vantaa<br />www.teatterivantaa.fi<br /><br />ke 15.4. klo 18.30<br /><br />Elisabet I on pakkotilanteessa. Häntä vaaditaan allekirjoittamaan serkkunsa Maria Stuartin kuolemantuomio. Kriisi on poliittinen, henkilökohtainen ja uskonnollinen.<br /> <br />Millainen prosessi on läpikäytävä, kun pitää tehdä vastenmielinen päätös? Miten siihen päädytään? Kuinka oikeuttaa se moraalisesti? Kuinka navigoida naisena sukupuoleen ja valtaan liittyvissä odotuksissa? Miten saada päätös näyttämään välttämättömyydeltä, ainoalta oikealta ratkaisulta? Ei vain muille vaan ennen kaikkea itselle.<br /> <br />Elisabet I:n tiedetään olleen lahjakas muusikko. Tässä esityksessä hän käyttää musiikkia apunaan ongelmanratkaisussa. Musiikkiteokset rakentavat osaltaan näytelmän emotionaalisen jännitteen: yhtäällä on Elisabetin henkilökohtainen toive olla armollinen, toisaalla hänen poliittinen tarpeensa olla päättäväinen ja armoton. Teokset on valittu aikakauden merkittävimmiltä säveltäjiltä, mm. William Byrdilta ja John Bullilta, ja ne esitetään Elisabetin suosikkisoittimella, virginaalilla. <br /><br />Teksti: Nely Keinänen<br />Suomenos: Kersti Juva<br />Ohjaus: Laura Jäntti<br />Näyttämöllä: Elina Mustonen<br />Skenografia: Tarja Simone<br /><br />Kantaesitys 29.3.2025 Teatteri Jurkassa<br /><br />Kesto: n. 1h, ei väliaikaa<br />Liput: 29 €, sis. Netticketin palvelumaksut<br />Ryhmävaraukset teatterin toimistosta, p. 09 836 1919.<br /><br />HUOM. Puolet permantopaikoista (mm. 2 pyörätuolipaikkaa) myydään teatterin toimistosta, p. 09 836 1919.<br /><br />Cafe Silkki palvelee tuntia ennen esitystä. Kahvilassa on anniskeluoikeus. Tervetuloa! <br /><br />  Visit event in our website: <a href='https://tapahtumainfo.fi/tapahtuma/2026/04/mina-elisabet/414833'>Tapahtumainfo.fi</a></body></html>
END:VEVENT
END:VCALENDAR
