BEGIN:VCALENDAR
VERSION:2.0
PRODID:-//tapahtumainfo.fi//NONSGML Leikin laboratorio -nÃ¤yttely//EN
METHOD:REQUEST
BEGIN:VEVENT
UID:20260423T130404-402007542-tapahtumainfo.fi
DTSTAMP:20260423T130404
DTSTART:20220513T020000Z
DTEND:20501231T020000Z
LOCATION:Museo Leikki
SUMMARY:Leikin laboratorio -nÃ¤yttely
DESCRIPTION:<html><head></head><body>Museo Leikin pÃ¤Ã¤nÃ¤yttely Leikin laboratorio puolustaa kaikenikÃ¤isten leikkiÃ¤!  Se vie sinut matkalle lapsuuden ilmiÃ¶iden pariin. Leiki vanhanajan lelukauppaa, anna nallen lohduttaa, vieraile taikametsÃ¤ssÃ¤ tai kurkista fanien kokoelmiin.<br><br>NÃ¤yttelyssÃ¤ suomalaisille rakkaat lelut kertovat sinulle omia tarinoitaan. Nostalgiseen lapsuuden maailmaan pÃ¤Ã¤set tutustumaan myÃ¶s leikkeihin ja leluihin liittyvien muistotekstien avulla. <br /><br />  Visit event in our website: <a href='https://tapahtumainfo.fi/tapahtuma/2022/05/leikin-laboratorio-n-yttely/415029'>Tapahtumainfo.fi</a></body></html>
END:VEVENT
END:VCALENDAR
